BEGIN:VCALENDAR
VERSION:2.0
PRODID:-//SECO/WARWICK//NONSGML v1.0//EN
CALSCALE:GREGORIAN
METHOD:PUBLISH
BEGIN:VTIMEZONE
TZID:Europe/Berlin
X-LIC-LOCATION:Europe/Berlin
BEGIN:DAYLIGHT
TZOFFSETFROM:+0100
TZOFFSETTO:+0200
TZNAME:CESTDTSTART:19700329T020000
RRULE:FREQ=YEARLY;INTERVAL=1;BYDAY=-1SU;BYMONTH=3
END:DAYLIGHT
BEGIN:STANDARD
TZOFFSETFROM:+0200
TZOFFSETTO:+0100
TZNAME:CET
DTSTART:19701025T030000
RRULE:FREQ=YEARLY;INTERVAL=1;BYDAY=-1SU;BYMONTH=10
END:STANDARD
END:VTIMEZONE
BEGIN:VEVENT
UID:90695ba986109fd0211f6eee9b8b92bb@seco-warwick.com
DTSTAMP:20260424T152214
DTSTART;TZID=Europe/Berlin:20250604T000000
DTEND;TZID=Europe/Berlin:20250606T190000
SUMMARY;CHARSET=UTF-8:Visit SECO/WARWICK at European Conference on Heat Treatment 2025 | booth 20
DESCRIPTION:The ECHT 2025 Conference and the 5th International Conference on Heat Treatment and Surface Engineering in Automotive and Transportation Applications are dedicated to the transfer of knowledge between research and practice, as well as the exchange of experience among engineers and scientists. ATZK, which includes heat treatment experts from the Czech and Slovak Republics—countries with a strong industrial tradition - proposes an extensive program presenting current trends in heat treatment and surface engineering for automotive and transportation applications.\n\nThis year in Prague (Czech Republic), SECO/WARWICK Group, as the 1st Choice Supplier of Solutions for Vacuum Heat Treatment, will present top vacuum technologies. Our expert will give a lecture on leading SECO/WARWICK solutions.\n/ Date: June 6th, Friday, 12:40 PM – 1:00 PM\n/ Speaker: Michał Bazel, R&amp;D Main Specialist Vacuum Technology\nHow can low pressure carburizing save your money and increase process efficiency ?\n\nDiscover top solutions for the heat treatment of metals at our stand:\n\n 	Pit-LPC Vacuum Carburizing Furnaces Alternative for atmosphere carburizing, which achieved the maximum of its possibilities. Pit-LPC = cost reduction, taking care of the environment, production increase – all this is possible due to the process being carried out in vacuum and in higher temperatures.\n 	Vector – a single-chamber vacuum furnace using gas quenching for a wide variety of heat-treating processes and applications. This technology provides important capabilities for obtaining highly uniform results in heat-treated parts, high process consistency in workloads, and high speeds in batch processing with low consumption of electrical power and process gases.\n 	Vacuum Aluminum Brazing (VAB) – technology is gaining in importance due to its environmental friendliness and process cleanliness. VAB furnaces provide reliable and repeatable brazing results in a wide range of furnaces, tailored to each customer’s expectations and requirements.\n 	CaseMaster Evolution T – a triple-chamber vacuum furnace designed for high-volume heat treatment processes such as low-pressure carburizing (LPC), annealing or vacuum brazing, combined with gas or oil quenching in semi-continuous production mode. The system is built with three separate, functional chambers: the loading and pre-heating chamber, process chamber, quenching and unloading chamber.\n 	Super IQ – a new-generation Integral Quench (IQ) furnace designed for low-pressure carburizing applications. This solution is designed so that it can be added to existing atmosphere carburizing furnace process lines without any need to significantly modify the existing infrastructure.\n 	ZeroFlow – a modern, energy-saving, and ecological gas nitriding technology used in HRN/VRN type furnaces, allowing for the precise development of the preset composition of the nitrided layer, composed only of alpha, alpha + gamma’ or alpha + gamma’+ epsilon phase, while maintaining minimum ammonia consumption, and thus, minimum emissions of post-process gasses.\n 	\n\nVisit our booth #20 and get to know our experts.\n\nThe SECO/WARWICK team would love to meet you at this event!
LOCATION:Venue: Kaiserstein Palace Address: Malostranské nám. 23/37 City: 110 00 Praha – Malá Strana, Czech Republic Our booth: #20 
URL:https://www.atzk-echt2025.com/
END:VEVENT
END:VCALENDAR