BEGIN:VCALENDAR
VERSION:2.0
PRODID:-//SECO/WARWICK//NONSGML v1.0//EN
CALSCALE:GREGORIAN
METHOD:PUBLISH
BEGIN:VTIMEZONE
TZID:Europe/Berlin
X-LIC-LOCATION:Europe/Berlin
BEGIN:DAYLIGHT
TZOFFSETFROM:+0100
TZOFFSETTO:+0200
TZNAME:CESTDTSTART:19700329T020000
RRULE:FREQ=YEARLY;INTERVAL=1;BYDAY=-1SU;BYMONTH=3
END:DAYLIGHT
BEGIN:STANDARD
TZOFFSETFROM:+0200
TZOFFSETTO:+0100
TZNAME:CET
DTSTART:19701025T030000
RRULE:FREQ=YEARLY;INTERVAL=1;BYDAY=-1SU;BYMONTH=10
END:STANDARD
END:VTIMEZONE
BEGIN:VEVENT
UID:d55e84e01fb2891b0c65a7f98d2ea00f@seco-warwick.com
DTSTAMP:20260425T154048
DTSTART;TZID=Europe/Berlin:20181008
DTEND;TZID=Europe/Berlin:20181011
SUMMARY;CHARSET=UTF-8:Visit SECO/WARWICK at Furnaces North America 2018 | booth 404 & 426
DESCRIPTION:Das entscheidende Ereignis bezüglich der Wärmebehandlungsöfen\nDas wichtigste Ereignis für die Wärmebehandlungsindustrie in Nordamerika wird dieses Jahr die Messe Furnaces North America 2018. Es wird von führenden Entscheidungsträgern in jedem Sektor der Wärmebehandlungsindustrie besucht.\nSie können uns während der Messe Furnaces North America nicht verpassen\nWährend der Messe wird die Gruppe von SECO/WARWICK Anlagen für die kontinuierliche Wärmebehandlung präsentieren, vor allem Rollenherd- und Drehretorten-Ofenanlagen, die an Ständen 215 und 217 zu finden sind.\n\nDarüber hinaus wird die Gruppe SECO/WARWICK Vakuumsysteme für Wärmebehandlung an Ständen 404 und 406 präsentieren, die einen breiten Umfang von Wärmebehandlung umfasst, darunter Vector®, eine universelle, horizontale Wärmebehandlungsanlage; Case Master Evolution® eine HPGQ-Mehrkammervakuumanlage für Ölabschreckung; und Uni Case Master®, den wahren Single-Piece-Flow-Vakuumhärtungsofen .\n\n&nbsp;
LOCATION:Indianapolis Convention Center 100 S. Capital Ave - Indianapolis, Indiana ​Host Hotel:  Marriott Downtown Indy 350 W Maryland St 
URL:http://www.furnacesnorthamerica.com/
END:VEVENT
END:VCALENDAR