BEGIN:VCALENDAR
VERSION:2.0
PRODID:-//SECO/WARWICK//NONSGML v1.0//EN
CALSCALE:GREGORIAN
METHOD:PUBLISH
BEGIN:VTIMEZONE
TZID:Europe/Berlin
X-LIC-LOCATION:Europe/Berlin
BEGIN:DAYLIGHT
TZOFFSETFROM:+0100
TZOFFSETTO:+0200
TZNAME:CESTDTSTART:19700329T020000
RRULE:FREQ=YEARLY;INTERVAL=1;BYDAY=-1SU;BYMONTH=3
END:DAYLIGHT
BEGIN:STANDARD
TZOFFSETFROM:+0200
TZOFFSETTO:+0100
TZNAME:CET
DTSTART:19701025T030000
RRULE:FREQ=YEARLY;INTERVAL=1;BYDAY=-1SU;BYMONTH=10
END:STANDARD
END:VTIMEZONE
BEGIN:VEVENT
UID:28a8c6c3fd2eac88695f2d78e479e8a6@seco-warwick.com
DTSTAMP:20260424T065843
DTSTART;TZID=Europe/Berlin:20150527
DTEND;TZID=Europe/Berlin:20150528
SUMMARY;CHARSET=UTF-8:Visit SECO/WARWICK at Heat Treatment Congress - Mexico
DESCRIPTION:The Heat Treatment Congress is hosted by Journada Tratamientos Termicos and provides a platform for heat treat professionals to network, experience technical paper presentations and a table top exposition organized specifically for the Mexican market with content in both Spanish and English.
LOCATION:Holiday Inn Diamante
Anillo Vial li, Fray Junipero Serra : 1500
Queretaro, 76140 Mexico 
URL:http://metalspain.com/mexico-2014-english.htm
END:VEVENT
END:VCALENDAR