BEGIN:VCALENDAR
VERSION:2.0
PRODID:-//SECO/WARWICK//NONSGML v1.0//EN
CALSCALE:GREGORIAN
METHOD:PUBLISH
BEGIN:VTIMEZONE
TZID:Europe/Berlin
X-LIC-LOCATION:Europe/Berlin
BEGIN:DAYLIGHT
TZOFFSETFROM:+0100
TZOFFSETTO:+0200
TZNAME:CESTDTSTART:19700329T020000
RRULE:FREQ=YEARLY;INTERVAL=1;BYDAY=-1SU;BYMONTH=3
END:DAYLIGHT
BEGIN:STANDARD
TZOFFSETFROM:+0200
TZOFFSETTO:+0100
TZNAME:CET
DTSTART:19701025T030000
RRULE:FREQ=YEARLY;INTERVAL=1;BYDAY=-1SU;BYMONTH=10
END:STANDARD
END:VTIMEZONE
BEGIN:VEVENT
UID:585a14dfbcba536b040c9dce7deb91c6@seco-warwick.com
DTSTAMP:20260425T033341
DTSTART;TZID=Europe/Berlin:20201021T090000
DTEND;TZID=Europe/Berlin:20201022T170000
SUMMARY;CHARSET=UTF-8:Visit SECO/WARWICK at Harterei Kongress 2020 | booth E-069
DESCRIPTION:In Köln (Deutschland) wird SECO/WARWICK seine vom deutschsprachigen Markt sehr geschätzten Lösungen präsentieren.\n\nEs werden auch nicht die vorjährigen Schlager der HK fehlen, wie z.B.\n\n 	UCM® 4D Quench® – Vakuumsystem für die Härtung von Einzelkomponenten in Stickstoff mit kontrollierter Verformung\n 	Der Super IQ® ofen mit Hybridsystem, das die Eigenschaften eines konventionellen und eines Vakuumofens in einem vereint. Dieser Atmosphärenofen wurde in erster Linie für Aufkohlungs- und Härteprozesse bei hohen Temperaturen konzipiert.\n\nWenn Sie mehr erfahren möchten, laden wir Sie ein zum SECO/WARWICK Stand zu kommen
LOCATION:Deutschland   Koln 1 
END:VEVENT
END:VCALENDAR