BEGIN:VCALENDAR
VERSION:2.0
PRODID:-//SECO/WARWICK//NONSGML v1.0//EN
CALSCALE:GREGORIAN
METHOD:PUBLISH
BEGIN:VTIMEZONE
TZID:Europe/Berlin
X-LIC-LOCATION:Europe/Berlin
BEGIN:DAYLIGHT
TZOFFSETFROM:+0100
TZOFFSETTO:+0200
TZNAME:CESTDTSTART:19700329T020000
RRULE:FREQ=YEARLY;INTERVAL=1;BYDAY=-1SU;BYMONTH=3
END:DAYLIGHT
BEGIN:STANDARD
TZOFFSETFROM:+0200
TZOFFSETTO:+0100
TZNAME:CET
DTSTART:19701025T030000
RRULE:FREQ=YEARLY;INTERVAL=1;BYDAY=-1SU;BYMONTH=10
END:STANDARD
END:VTIMEZONE
BEGIN:VEVENT
UID:c4f3f382326a618bc06338de983f0253@seco-warwick.com
DTSTAMP:20260422T234151
DTSTART;TZID=Europe/Berlin:20200812T0900
DTEND;TZID=Europe/Berlin:20200814T1700
SUMMARY;CHARSET=UTF-8:Visit SECO/WARWICK at PM China 2020 | booth A 011
DESCRIPTION:
LOCATION:China   Shanghai 26 
END:VEVENT
END:VCALENDAR