BEGIN:VCALENDAR
VERSION:2.0
PRODID:-//SECO/WARWICK//NONSGML v1.0//EN
CALSCALE:GREGORIAN
METHOD:PUBLISH
BEGIN:VTIMEZONE
TZID:Europe/Berlin
X-LIC-LOCATION:Europe/Berlin
BEGIN:DAYLIGHT
TZOFFSETFROM:+0100
TZOFFSETTO:+0200
TZNAME:CESTDTSTART:19700329T020000
RRULE:FREQ=YEARLY;INTERVAL=1;BYDAY=-1SU;BYMONTH=3
END:DAYLIGHT
BEGIN:STANDARD
TZOFFSETFROM:+0200
TZOFFSETTO:+0100
TZNAME:CET
DTSTART:19701025T030000
RRULE:FREQ=YEARLY;INTERVAL=1;BYDAY=-1SU;BYMONTH=10
END:STANDARD
END:VTIMEZONE
BEGIN:VEVENT
UID:f4ebf96c476ded3bc967f93ac6cb2917@seco-warwick.com
DTSTAMP:20260425T004606
DTSTART;TZID=Europe/Berlin:20230529T000000
DTEND;TZID=Europe/Berlin:20230531T000000
SUMMARY;CHARSET=UTF-8:Visit SECO/WARWICK at ECHT 2023 - EUROPEAN CONFERENCE ON HEAT TREATMENT
DESCRIPTION:ECHT 2023 will cover all relevant topics for the Heat Treatment &amp; Surface Engineering community. The Conference will have a special focus on sustainability!\nGenova, Italy will host an annual manufacturing and supply chain event.\nSECO / WARWICK, as the 1st Choice Supplier, will present modern, energy efficient and ecological vacuum heat treatment equipment at the European Conference Heat Treatment 2023 fair and our expert Paweł Okińczyc will present a lecture on top SECO/WARWICK's technology:\n/ Date: May 29th, 12:40 pm – 1:00 pm\n/ Speaker: Paweł Okińczyc\n“Economic and efficient low pressure carburizing in pit furnaces”\n\n\nDiscover top solutions for the heat treatment of metals at our stand:\n\n 	Vector®  – Vector is a single-chamber vacuum furnace using a gas quench that can be used for a wide variety of heat treating processes and applications. It provides important capabilities for producing high uniformity in heat treated parts, high process consistency in workloads, and high speeds in batch processing with low consumption of power and process gases.\n 	Pit-LPC Vacuum Carburizing Furnaces  Alternative for atmosphere carburizing, which achieved the maximum of its possibilities. Pit-LPC = cost reduction, taking care of the environment, production increase – all this is possible due to the process being carried out in vacuum and in higher temperatures.\n 	CaseMaster Evolution T – is a triple-chamber vacuum furnace designed for high volume case hardening processing based on low pressure carburizing (LPC) and gas quenching in the semi-continuous production mode. The system is built with three separate, functional chambers: a loading and pre-heating chamber, process chamber (LPC), gas quenching and unloading chamber.\n 	Super IQ® – This new-generation Integral Quench Furnace is designed for low pressure carburizing applications. The unit is designed so that it can be added to existing process lines of carburizing furnaces without any need to significantly modify the existing infrastructure.\n 	ZeroFlow® – a modern, energy-saving, and ecological gas nitriding technology used in HRN/VRN type furnaces, allowing for the precise development of the preset composition of the nitrided layer, composed only of alpha, alpha+gamma’ or alpha+gamma’+epsilon phase, while maintaining minimum ammonia consumption, and thus, minimum emissions of post-process gases.\n\n&nbsp;\nVisit our booth and get to know our expert.\nThe SECO/WARWICK team would love to meet you at this event!
LOCATION:Magazzini del Cotone  16128  Genova  10 
URL:https://www.aimnet.it/echt2023.htm 
END:VEVENT
END:VCALENDAR