BEGIN:VCALENDAR
VERSION:2.0
PRODID:-//SECO/WARWICK//NONSGML v1.0//EN
CALSCALE:GREGORIAN
METHOD:PUBLISH
BEGIN:VTIMEZONE
TZID:Europe/Berlin
X-LIC-LOCATION:Europe/Berlin
BEGIN:DAYLIGHT
TZOFFSETFROM:+0100
TZOFFSETTO:+0200
TZNAME:CESTDTSTART:19700329T020000
RRULE:FREQ=YEARLY;INTERVAL=1;BYDAY=-1SU;BYMONTH=3
END:DAYLIGHT
BEGIN:STANDARD
TZOFFSETFROM:+0200
TZOFFSETTO:+0100
TZNAME:CET
DTSTART:19701025T030000
RRULE:FREQ=YEARLY;INTERVAL=1;BYDAY=-1SU;BYMONTH=10
END:STANDARD
END:VTIMEZONE
BEGIN:VEVENT
UID:a5ed3c4b637b9dee01b6d69d1a62d6de@seco-warwick.com
DTSTAMP:20260424T160555
DTSTART;TZID=Europe/Berlin:20250408T000000
DTEND;TZID=Europe/Berlin:20250409T230000
SUMMARY;CHARSET=UTF-8:Visit SECO/WARWICK at 3rd Congress Thermal Process in Brazil 2025
DESCRIPTION:The 3rd Congress Thermal Process in Brazil is a two-day conference where, SECO/WARWICK as the 1st Choice Supplier of Technologies for Heat Treatment, will present modern, energy-efficient, and ecological equipment.\n\nOur expert, Łukasz Chwialkowski will present two lectures on leading SECO/WARWICK technologies:\n/ Date: April 8th 2025\n/ Speaker: Łukasz Chwiałkowski\n„Comparison of Gas Carburizing with LPC. How can Low Pressure Carburizing save your money and increase process efficiency?"\n\n\n&nbsp;\n/ Date: April 9th 2025\n/ Speaker: Łukasz Chwiałkowski\n"Large Die Casting Heat Treatment"\n\n\n&nbsp;\n\nTo be one step ahead, consider:\n\n 	Vector – Vector is a single-chamber vacuum furnace using a gas quench that can be used for a wide variety of heat treating processes and applications. It provides important capabilities for producing high uniformity in heat treated parts, high process consistency in workloads, and high speeds in batch processing with low consumption of power and process gases.\n 	CaseMaster Evolution T – is a triple-chamber vacuum furnace designed for high volume case hardening processing based on low pressure carburizing (LPC) and gas quenching in the semi-continuous production mode. The system is built with three separate, functional chambers: a loading and pre-heating chamber, process chamber (LPC), gas quenching and unloading chamber.\n 	Pit-LPC Vacuum Carburizing Furnaces  Alternative for atmosphere carburizing, which achieved the maximum of its possibilities. Pit-LPC = cost reduction, taking care of the environment, production increase – all this is possible due to the process being carried out in vacuum and in higher temperatures.\n 	Super IQ – This new-generation Integral Quench Furnace is designed for low pressure carburizing applications. The unit is designed so that it can be added to existing process lines of carburizing furnaces without any need to significantly modify the existing infrastructure.\n 	ZeroFlow – a modern, energy-saving, and ecological gas nitriding technology used in HRN/VRN type furnaces, allowing for the precise development of the preset composition of the nitrided layer, composed only of alpha, alpha+gamma’ or alpha+gamma’+epsilon phase, while maintaining minimum ammonia consumption, and thus, minimum emissions of post-process gases.\n\nVisit our booth and get to know our expert.\n\nThe SECO/WARWICK team would love to meet you at this event!
LOCATION:Veneu: Hotel Nacional Inn Campinas Trevo  Street: Av. Benedito de Campos, 35  City: Campinas, SP Country: Brazil 
URL:https://www.sympla.com.br/evento/iii-congresso-de-processos-termicos-2025/2509538
END:VEVENT
END:VCALENDAR