BEGIN:VCALENDAR
VERSION:2.0
PRODID:-//SECO/WARWICK//NONSGML v1.0//EN
CALSCALE:GREGORIAN
METHOD:PUBLISH
BEGIN:VTIMEZONE
TZID:Europe/Berlin
X-LIC-LOCATION:Europe/Berlin
BEGIN:DAYLIGHT
TZOFFSETFROM:+0100
TZOFFSETTO:+0200
TZNAME:CESTDTSTART:19700329T020000
RRULE:FREQ=YEARLY;INTERVAL=1;BYDAY=-1SU;BYMONTH=3
END:DAYLIGHT
BEGIN:STANDARD
TZOFFSETFROM:+0200
TZOFFSETTO:+0100
TZNAME:CET
DTSTART:19701025T030000
RRULE:FREQ=YEARLY;INTERVAL=1;BYDAY=-1SU;BYMONTH=10
END:STANDARD
END:VTIMEZONE
BEGIN:VEVENT
UID:32f60ffbc3a86b5519e48d8f0369bb60@seco-warwick.com
DTSTAMP:20260425T031857
DTSTART;TZID=Europe/Berlin:20160605
DTEND;TZID=Europe/Berlin:20160608
SUMMARY;CHARSET=UTF-8:Visit SECO/WARWICK at AMPM 2016
DESCRIPTION:Attend the PM industry's largest tradeshow devoted exclusively to powder metallurgy, particulate materials, and metal additive manufacturing. This 100-booth international marketplace will present leading companies featuring the latest PM equipment, powders, products, and services. This is a great opportunity to meet industry suppliers all together in one place.
LOCATION:   Boston 118 
END:VEVENT
END:VCALENDAR