BEGIN:VCALENDAR
VERSION:2.0
PRODID:-//SECO/WARWICK//NONSGML v1.0//EN
CALSCALE:GREGORIAN
METHOD:PUBLISH
BEGIN:VTIMEZONE
TZID:Europe/Berlin
X-LIC-LOCATION:Europe/Berlin
BEGIN:DAYLIGHT
TZOFFSETFROM:+0100
TZOFFSETTO:+0200
TZNAME:CESTDTSTART:19700329T020000
RRULE:FREQ=YEARLY;INTERVAL=1;BYDAY=-1SU;BYMONTH=3
END:DAYLIGHT
BEGIN:STANDARD
TZOFFSETFROM:+0200
TZOFFSETTO:+0100
TZNAME:CET
DTSTART:19701025T030000
RRULE:FREQ=YEARLY;INTERVAL=1;BYDAY=-1SU;BYMONTH=10
END:STANDARD
END:VTIMEZONE
BEGIN:VEVENT
UID:b83556d51f984562ebeb703e0bfe8a90@seco-warwick.com
DTSTAMP:20260425T021130
DTSTART;TZID=Europe/Berlin:20201021T090000
DTEND;TZID=Europe/Berlin:20201022T170000
SUMMARY;CHARSET=UTF-8:Visit SECO/WARWICK at Heat Treatment Congress (HK) 2020 | booth E-069
DESCRIPTION:At the first, unusual, because virtual, HK 2020 conference, the SECO/WARWICK Group will also present unusual solutions:\n\n 	4D Quench® - vacuum system for quenching individual elements in nitrogen with deformation control as an attractive alternative to hardening in presses,\n 	Super IQ® - a hybrid system that combines the features of a conventional and vacuum furnace in one. This atmosphere furnace is designed primarily for high temperature carburizing and quenching processes.\n\nThere will be also solutions that the market has been waiting for - PIT LPC, i.e. a vacuum pit furnace for thick layers carburizing for massive or longitudinal parts, as well as flagship Vector products and the CaseMaster Evolution line.\n\nFor more information visit the virtual SECO/WARWICK's stand.
LOCATION:Germany   online 1 
END:VEVENT
END:VCALENDAR