BEGIN:VCALENDAR
VERSION:2.0
PRODID:-//SECO/WARWICK//NONSGML v1.0//EN
CALSCALE:GREGORIAN
METHOD:PUBLISH
BEGIN:VTIMEZONE
TZID:Europe/Berlin
X-LIC-LOCATION:Europe/Berlin
BEGIN:DAYLIGHT
TZOFFSETFROM:+0100
TZOFFSETTO:+0200
TZNAME:CESTDTSTART:19700329T020000
RRULE:FREQ=YEARLY;INTERVAL=1;BYDAY=-1SU;BYMONTH=3
END:DAYLIGHT
BEGIN:STANDARD
TZOFFSETFROM:+0200
TZOFFSETTO:+0100
TZNAME:CET
DTSTART:19701025T030000
RRULE:FREQ=YEARLY;INTERVAL=1;BYDAY=-1SU;BYMONTH=10
END:STANDARD
END:VTIMEZONE
BEGIN:VEVENT
UID:e1e00f7ebab51bf7ead75471528fc8bd@seco-warwick.com
DTSTAMP:20260425T033431
DTSTART;TZID=Europe/Berlin:20160810
DTEND;TZID=Europe/Berlin:20160813
SUMMARY;CHARSET=UTF-8:Visit SECO/WARWICK at ITPS Americas
DESCRIPTION:Every four years the thermal processing industry gathers in Dusseldorf, Germany for the world’s largest trade show of its kind:  THERMPROCESS. The International Thermprocess Summit (ITPS) stems from THERMPROCESS and has been held in Germany and India during the interim years. This executive level summit, designed to bring upper management from manufacturing plants and industry suppliers together for networking and information exchange, will be launched in the USA for the first time in August, 2016. Co-sponsored in the USA by the Industrial Heating Equipment Association &amp; Industrial Heating magazine, this two day event will feature four cutting edge sessions that will address:

• POLICIES IMPACTING THERMAL PROCESSES
• ECONOMIC UPDATES FROM AROUND THE WORLD
• TECHNOLOGICAL ADVANCEMENTS &amp; THEIR IMPACT ON THE THERMAL PROCESS INDUSTRIES
• MARKET SEGMENT TRENDS

A tabletop exhibition will complement an outstanding Summit program along with networking activities including a Taste of Chicago dinner. This is your opportunity to reach hundreds of manufacturing executives involved 
LOCATION:Loews Chicago Hotel
455 N. Park Drive
Chicago, Illinois  60611 
URL:http://www.ihea.org/event/ITPSA%20
END:VEVENT
END:VCALENDAR