BEGIN:VCALENDAR
VERSION:2.0
PRODID:-//SECO/WARWICK//NONSGML v1.0//EN
CALSCALE:GREGORIAN
METHOD:PUBLISH
BEGIN:VTIMEZONE
TZID:Europe/Berlin
X-LIC-LOCATION:Europe/Berlin
BEGIN:DAYLIGHT
TZOFFSETFROM:+0100
TZOFFSETTO:+0200
TZNAME:CESTDTSTART:19700329T020000
RRULE:FREQ=YEARLY;INTERVAL=1;BYDAY=-1SU;BYMONTH=3
END:DAYLIGHT
BEGIN:STANDARD
TZOFFSETFROM:+0200
TZOFFSETTO:+0100
TZNAME:CET
DTSTART:19701025T030000
RRULE:FREQ=YEARLY;INTERVAL=1;BYDAY=-1SU;BYMONTH=10
END:STANDARD
END:VTIMEZONE
BEGIN:VEVENT
UID:0675dacaa202ba0a0b2bb17766811fa4@seco-warwick.com
DTSTAMP:20260425T031943
DTSTART;TZID=Europe/Berlin:20160925
DTEND;TZID=Europe/Berlin:20160929
SUMMARY;CHARSET=UTF-8:Visit SECO/WARWICK at TITANIUM USA 2016
DESCRIPTION:As the international titanium supply chain has grown in scope and complexity over the past decade, attendance at the TITANIUM conference series has doubled.  TITANIUM Europe and USA conference series hosted nearly 1,250 delegates in 2015 from over 35 countries.  TITANIUM offers insights into the current state of the industry as well as efficient, high-value networking opportunities not available anywhere else for titanium producers, OEM’s, distributors, fabricators, and vendors who offer products &amp; services to the titanium community alike.The TITANIUM series is hosted by International Titanium Association (ITA).  A non-proﬁt trade group established in 1984, the ITA’s mission is to connect the public with Member organizations who may provide technical and sales assistance.  More than 240 organizations and over 1,600 individuals worldwide comprise the membership of the Association.
LOCATION:   Scottsdale 100 
URL:http://www.cvent.com/events/scottsdale-titanium-us
END:VEVENT
END:VCALENDAR