BEGIN:VCALENDAR
VERSION:2.0
PRODID:-//SECO/WARWICK//NONSGML v1.0//EN
CALSCALE:GREGORIAN
METHOD:PUBLISH
BEGIN:VTIMEZONE
TZID:Europe/Berlin
X-LIC-LOCATION:Europe/Berlin
BEGIN:DAYLIGHT
TZOFFSETFROM:+0100
TZOFFSETTO:+0200
TZNAME:CESTDTSTART:19700329T020000
RRULE:FREQ=YEARLY;INTERVAL=1;BYDAY=-1SU;BYMONTH=3
END:DAYLIGHT
BEGIN:STANDARD
TZOFFSETFROM:+0200
TZOFFSETTO:+0100
TZNAME:CET
DTSTART:19701025T030000
RRULE:FREQ=YEARLY;INTERVAL=1;BYDAY=-1SU;BYMONTH=10
END:STANDARD
END:VTIMEZONE
BEGIN:VEVENT
UID:e47d6a819cb07e1c15bf135faf9e68a3@seco-warwick.com
DTSTAMP:20260424T185547
DTSTART;TZID=Europe/Berlin:20241008T000000
DTEND;TZID=Europe/Berlin:20241010T000000
SUMMARY;CHARSET=UTF-8:Visit SECO/WARWICK at ALUMINIUM 2024 | booth M42
DESCRIPTION:The ALUMINIUM Trade Fair organised in Düsseldorf is the meeting place for aluminum producers and suppliers from all over the world. SECO/WARWICK as the 1st Choice Supplier of Aluminum Heat Treatment Solutions that you can discover at HALL 5 M42!\n\nDiscover the first choice aluminium for systems\n\nVortex 2.0 – Aluminum Coil Annealing Furnace using High Convection Vortex® 2.0 Jet Airflow. Using patented Vortex jet airflow technology, SECO/WARWICK’s Vortex® 2.0 aluminum coils annealing system, combined with optional Bypass Cooler and SeCoil® control and simulation software, provides coils producers the ability to significantly reduce the overall cycle time of their furnaces, resulting in energy savings, increased productivity, and improved surface quality.\n\nVertiQuench – Drop Bottom Furnaces for Aluminum Solution Heat Treatment and Aging provide an affordable solution for demanding automotive and aerospace industries. This innovative NADCAP compliant technology enables very fast and full load immersion,  as short as 5 seconds.\n\nAluminum Aging and Annealing Furnaces – The best technology for wire, profile and foil (less than 100 microns) annealing, where the surface of the load is vulnerable to damages during high atmosphere flow. Aging furnaces Furnaces for T77 process heat treatment.\n\nAluminum Homogenizing Furnaces - The custom-designed homogenizing furnaces for aluminum billets and logs for most technological applications. Equipment designs include batch types (both car and tray designs), and traveling styles, complete with material handling systems and load cooling equipment.\n\nVisit our booth HALL 5 M42 and get to know our experts.\n\nThe SECO/WARWICK team would love to meet you at this event! If you are interested in meeting, please drop us an email (events@secowarwick.com) - we'll be happy to get your meeting scheduled.\n\nWe are looking forward to seeing you at stand 5M42.
LOCATION:Messegelände Düsseldorf  <br>city: Düsseldorf <br>country: Germany 
URL:https://www.aluminium-exhibition.com/en/
END:VEVENT
END:VCALENDAR