BEGIN:VCALENDAR
VERSION:2.0
PRODID:-//SECO/WARWICK//NONSGML v1.0//EN
CALSCALE:GREGORIAN
METHOD:PUBLISH
BEGIN:VTIMEZONE
TZID:Europe/Berlin
X-LIC-LOCATION:Europe/Berlin
BEGIN:DAYLIGHT
TZOFFSETFROM:+0100
TZOFFSETTO:+0200
TZNAME:CESTDTSTART:19700329T020000
RRULE:FREQ=YEARLY;INTERVAL=1;BYDAY=-1SU;BYMONTH=3
END:DAYLIGHT
BEGIN:STANDARD
TZOFFSETFROM:+0200
TZOFFSETTO:+0100
TZNAME:CET
DTSTART:19701025T030000
RRULE:FREQ=YEARLY;INTERVAL=1;BYDAY=-1SU;BYMONTH=10
END:STANDARD
END:VTIMEZONE
BEGIN:VEVENT
UID:80d3c112f9ef1e3c65646ed719d70fbd@seco-warwick.com
DTSTAMP:20260424T202206
DTSTART;TZID=Europe/Berlin:20141027
DTEND;TZID=Europe/Berlin:20141030
SUMMARY;CHARSET=UTF-8:Visit SECO/WARWICK at Aluminum Furnace Seminar
DESCRIPTION:The North American Aluminum Group will present a two day seminar to present basic, practical information on industrial furnaces for aluminum in the focus areas of heat treatment, melting and holding . By reviewing the basics, attendees get a better understanding of applications, design, equipment operation and maintenance.
Program Topics
Heating rate and air flow
Fuel facts and combustion (presentation &amp; shop demonstration)
Furnace insulation
Fan wheels and bearings
Log Homogenizing
Ingot heating
Coil Annealing
Process controls and demonstration
Solution heat treat furnaces
Reverb refractories
Aluminum melting furnace design
Aluminum tilting/holding furnaces
For more information contact Beth Ryan at +1-814-332-8575 or email beth.ryan@secowarwick.com
Register &amp; pay online below:


LOCATION:Holiday Inn Express 
18240 Conneaut Lake Road
Meadville, PA  16335 
END:VEVENT
END:VCALENDAR