BEGIN:VCALENDAR
VERSION:2.0
PRODID:-//SECO/WARWICK//NONSGML v1.0//EN
CALSCALE:GREGORIAN
METHOD:PUBLISH
BEGIN:VTIMEZONE
TZID:Europe/Berlin
X-LIC-LOCATION:Europe/Berlin
BEGIN:DAYLIGHT
TZOFFSETFROM:+0100
TZOFFSETTO:+0200
TZNAME:CESTDTSTART:19700329T020000
RRULE:FREQ=YEARLY;INTERVAL=1;BYDAY=-1SU;BYMONTH=3
END:DAYLIGHT
BEGIN:STANDARD
TZOFFSETFROM:+0200
TZOFFSETTO:+0100
TZNAME:CET
DTSTART:19701025T030000
RRULE:FREQ=YEARLY;INTERVAL=1;BYDAY=-1SU;BYMONTH=10
END:STANDARD
END:VTIMEZONE
BEGIN:VEVENT
UID:b30347c8cb1277d928e639da44041fa9@seco-warwick.com
DTSTAMP:20260423T185605
DTSTART;TZID=Europe/Berlin:20151020T000000
DTEND;TZID=Europe/Berlin:20151022T000000
SUMMARY;CHARSET=UTF-8:Visit SECO/WARWICK at ASM Heat Treating Society Conference &amp; Gear Expo | booth 527
DESCRIPTION:The ASM Heat Treating Society and the American Gear Manufacturers Association once again partner to create an exciting mix of education, technology, networking and exposition opportunities.\n\nASM Heat Treat EXPO\n\nSECO/WARWICK returns to the Heat Treat EXPO with a 10 Bar High Pressure Quench Vacuum Furnace, manufactured in the Meadville, PA facility. SECO/WARWICK will present a 30 minute workshop on understanding the value-added features of a vacuum furnace along with best practices in maintenance and operation.  A live demo of simulation and control software will permit attendees to have a first-hand experience with the patented SECO/WARWICK software.\n\nLearn more about our signature technology, FineCarb® Low Pressure Carburizing w/the PreNit® boost option during the technical conference, presented by Tom Lord.\n\nThe Atmosphere furnace group will be on hand to discuss the unique features of the SECO/WARWICK roller hearth furnace design, along with a presentation by Mark Hemsath on how ZeroFlow™ Nitriding can produce excellent results while significantly reducing ammonia consumption.\n\nDid you know?  The SECO/WARWICK aluminum group offers a wide variety of designs for aluminum solution heat treating with continuous, indexing, tower and drop bottom configurations.  The Aftermarket group provides replacement parts, service and technical rebuilds for a wide variety of heat treating equipment.\n\nGear EXPO\n\nAt this year’s Gear EXPO Technical meeting, Maciej Korecki will introduce a new approach to reducing distortion of automotive gears in continuous production that challenges conventional case hardening methods with a single flow, precision case hardening system for high volume manufacturing, the UniCaseMaster®.  Dr. Korecki will be available for questions on this new process in the SECO/WARWICK booth, at the Heat Treat EXPO in booth 527.
LOCATION:Cobo Center 1 Washington Blvd. Detroit, MI  48226 
URL:http://bit.ly/1hyrDgI
END:VEVENT
END:VCALENDAR