BEGIN:VCALENDAR
VERSION:2.0
PRODID:-//SECO/WARWICK//NONSGML v1.0//EN
CALSCALE:GREGORIAN
METHOD:PUBLISH
BEGIN:VTIMEZONE
TZID:Europe/Berlin
X-LIC-LOCATION:Europe/Berlin
BEGIN:DAYLIGHT
TZOFFSETFROM:+0100
TZOFFSETTO:+0200
TZNAME:CESTDTSTART:19700329T020000
RRULE:FREQ=YEARLY;INTERVAL=1;BYDAY=-1SU;BYMONTH=3
END:DAYLIGHT
BEGIN:STANDARD
TZOFFSETFROM:+0200
TZOFFSETTO:+0100
TZNAME:CET
DTSTART:19701025T030000
RRULE:FREQ=YEARLY;INTERVAL=1;BYDAY=-1SU;BYMONTH=10
END:STANDARD
END:VTIMEZONE
BEGIN:VEVENT
UID:4ce3a6ec9ad0775b67106e60e9b937d7@seco-warwick.com
DTSTAMP:20260424T114927
DTSTART;TZID=Europe/Berlin:20260421T000000
DTEND;TZID=Europe/Berlin:20260423T190000
SUMMARY;CHARSET=UTF-8:Visit SECO/WARWICK at EGOLF 2026
DESCRIPTION:The Spring 2026 EGOLF Annual Meeting will take place in Borås (Sweden).\n\nThis year during the event, SECO/WARWICK as the 1st Choice Supplier of Solutions, will present its latest equipment and technology for fire resistance tests.\n\nFire Resistance Test Furnaces  are available in a variety of configurations (horizontal, vertical, or combined), for fire resistance testing of suspended ceilings, viewfinders, walls, columns, etc., and are designed according to specific heating curves.\n\nOur expert, Mariusz Raszewski will present lecture:\n/ Date: April 22nd 2026, 1: PM\n/ Speaker: Mariusz Raszewski\n“SECO/WARWICK Solutions for Fire Resistance Testing: Furnaces, Retrofits and Modernisation”\n\nThe SECO/WARWICK team would love to meet you at this event!
LOCATION:Borås, Sweden 
END:VEVENT
END:VCALENDAR