BEGIN:VCALENDAR
VERSION:2.0
PRODID:-//SECO/WARWICK//NONSGML v1.0//EN
CALSCALE:GREGORIAN
METHOD:PUBLISH
BEGIN:VTIMEZONE
TZID:Europe/Berlin
X-LIC-LOCATION:Europe/Berlin
BEGIN:DAYLIGHT
TZOFFSETFROM:+0100
TZOFFSETTO:+0200
TZNAME:CESTDTSTART:19700329T020000
RRULE:FREQ=YEARLY;INTERVAL=1;BYDAY=-1SU;BYMONTH=3
END:DAYLIGHT
BEGIN:STANDARD
TZOFFSETFROM:+0200
TZOFFSETTO:+0100
TZNAME:CET
DTSTART:19701025T030000
RRULE:FREQ=YEARLY;INTERVAL=1;BYDAY=-1SU;BYMONTH=10
END:STANDARD
END:VTIMEZONE
BEGIN:VEVENT
UID:8a2a3a14a43dee3c5d2a9c9e9cc70d3a@seco-warwick.com
DTSTAMP:20260425T031943
DTSTART;TZID=Europe/Berlin:20160613
DTEND;TZID=Europe/Berlin:20160618
SUMMARY;CHARSET=UTF-8:Visit SECO/WARWICK at Graphene Week 2016
DESCRIPTION:Originating from 2006, Graphene Week has a long history of creating Europe’s most influential conference on graphene and related two-dimensional materials by bringing together international key experts and professionals from all around the world. From Manchester to Warsaw, the 11th edition of the international conference, Graphene Week will be held at the University of Warsaw, Poland. The Graphene Week 2016 programme will focus on:

Science and applications of graphene and new 2D materials
Synthesis of graphene and new 2D materials
2D materials, heterostructures and superstructures
Correlation effects in graphene and 2D materials
Graphene- and 2D materials-based nanocomposites
Graphene-related biomedical and environment research


LOCATION:   Warsaw 12 
URL:http://graphene-flagship.eu/grapheneweek
END:VEVENT
END:VCALENDAR