BEGIN:VCALENDAR
VERSION:2.0
PRODID:-//SECO/WARWICK//NONSGML v1.0//EN
CALSCALE:GREGORIAN
METHOD:PUBLISH
BEGIN:VTIMEZONE
TZID:Europe/Berlin
X-LIC-LOCATION:Europe/Berlin
BEGIN:DAYLIGHT
TZOFFSETFROM:+0100
TZOFFSETTO:+0200
TZNAME:CESTDTSTART:19700329T020000
RRULE:FREQ=YEARLY;INTERVAL=1;BYDAY=-1SU;BYMONTH=3
END:DAYLIGHT
BEGIN:STANDARD
TZOFFSETFROM:+0200
TZOFFSETTO:+0100
TZNAME:CET
DTSTART:19701025T030000
RRULE:FREQ=YEARLY;INTERVAL=1;BYDAY=-1SU;BYMONTH=10
END:STANDARD
END:VTIMEZONE
BEGIN:VEVENT
UID:d3835c580b6a841bf472d51381c07832@seco-warwick.com
DTSTAMP:20260425T020754
DTSTART;TZID=Europe/Berlin:20181016
DTEND;TZID=Europe/Berlin:20181019
SUMMARY;CHARSET=UTF-8:Visit SECO/WARWICK at HARTEREI KONGRESS | booth E-060
DESCRIPTION:Czym jest HK\nKongres obróbki cieplnej stanowi doroczne wydarzenie organizowane w Kolonii (Niemcy). Jest to największa impreza dotycząca obróbki cieplnej i materiałów w Europie.\n\nOdkryj innowacje w zakresie obróbki cieplnej, technologii materiałów, technologii produkcji i inżynierii procesów. Poznaj potencjał związany z konserwacją prewencyjną zakładów obróbki cieplnej – zapraszamy do stanowiska SECO/WARWICK.\nTechnologie odpowiadające każdej Twojej potrzebie\nPoznaj ekspertów SECO/WARWICK i dowiedz się więcej na temat\n\n 	UniCase Master – prawdziwego mistrza efektywności w dziedzinie ciągłej obróbki cieplnej kół zębatych,\n 	nowy wymiar wsparcia dla urządzeń i procesów związanych z obróbką cieplną,\n 	zastrzeżoną metodę ZeroFlow® dla ekonomicznej kontroli przepływu gazu,\n 	hybrydowy system umożliwiający obróbkę cieplną przy pomocy hartowania w strumieniu gazu lub w oleju – CaseMaster Evolution®\n\nPoznaj również profesjonalne usługi techniczne umożliwiające klientom utrzymanie pozycji lidera w szybko zmieniającym się środowisku biznesowym. Dziś usługi obejmują nie tylko wsparcie 24/7 w razie awarii, lecz także części zamienne, naprawy i o wiele więcej. Przykład stanowi SECO/LENS, holograficzna technologia oferująca szkolenia, konserwację, możliwości działania i świadczenia usług. To wsparcie w zakresie każdej technologii obróbki cieplnej dla wszystkich klientów na świecie.\nGdzie nas znaleźć\nOdwiedź stanowisko E-060 w hali 4.1, a SECO/WARWICK przedstawi Ci najnowsze podejścia w zakresie profesjonalnych usług i produktów. Spotkaj się z nami, aby poznać przyszłe praktyczne zastosowania dzisiejszych technologii.
LOCATION:   Koeln 1 
END:VEVENT
END:VCALENDAR