BEGIN:VCALENDAR
VERSION:2.0
PRODID:-//SECO/WARWICK//NONSGML v1.0//EN
CALSCALE:GREGORIAN
METHOD:PUBLISH
BEGIN:VTIMEZONE
TZID:Europe/Berlin
X-LIC-LOCATION:Europe/Berlin
BEGIN:DAYLIGHT
TZOFFSETFROM:+0100
TZOFFSETTO:+0200
TZNAME:CESTDTSTART:19700329T020000
RRULE:FREQ=YEARLY;INTERVAL=1;BYDAY=-1SU;BYMONTH=3
END:DAYLIGHT
BEGIN:STANDARD
TZOFFSETFROM:+0200
TZOFFSETTO:+0100
TZNAME:CET
DTSTART:19701025T030000
RRULE:FREQ=YEARLY;INTERVAL=1;BYDAY=-1SU;BYMONTH=10
END:STANDARD
END:VTIMEZONE
BEGIN:VEVENT
UID:0a0ac7e338bc2a4bea0f7dfa82765d4d@seco-warwick.com
DTSTAMP:20260424T203029
DTSTART;TZID=Europe/Berlin:20141113T000000
DTEND;TZID=Europe/Berlin:20141114T000000
SUMMARY;CHARSET=UTF-8:Visit SECO/WARWICK at Härtereitage Wiesbaden 2014 - Industrieseminar
DESCRIPTION:Die Härtereitage 2014 finden in diesem Jahr erstmalig in Wiesbaden statt. Ein attraktives Programm aus wissenschaftlichen, praktisch-technischen und wirtschaftlichen Vorträgen mit anschliessenden Diskussionen soll interessierten Teilnehmern vom Geschäftsführer bis zum Anlagenbediener aus dem Bereich der Härterei eine fundierte Übersicht der aktuellen Themen, Entwicklungen und Trends in diesem Bereich geben. Nach den Vorträgen wird Zeit für eine anschliessende Diskussion eingeräumt, in den Pausen und beim gemeinsamen Abendessen besteht viel Zeit, um tiefergehend zu diskutieren und Kontakte zu knüpfen.\n\nDas Industrieseminar beginnt am Donnerstag,13.11.2014, mit Empfang ab 8:00 Uhr und Beginn der Vorträge um 9:00 Uhr. Am Donnerstag klingt der Tag mit einem gemeinsamen Abendessen im Kurhaus und Erfahrungsaustausch aus, am Freitag, 14.12.2014, beginnen die Vorträge ab 8:00 Uhr. Die Veranstaltung endet offiziell um circa 13:00 Uhr mit einem Mittagsimbiss und der offiziellen Verabschiedung.\n\nErster Tag - Donnerstag, 13.11.2014\n\nRegistrierung, Empfang und Kaffee ab 8:00 Uhr\n\n9:00 Uhr\n\nEin effizienter Wärmebehandlungsbetrieb\nJan Elwart (Präsident der BODYCOTE-Gruppe i.R., Köln, D)\n\n10:00 Uhr\nNiederdruckaufkohlen mit Voraufstickung und Ölabschreckung als Altnerative zum Mehrzweckkammerofen\nThomas Kreuzaler (Geschäftsführer SECO/WARWICK do Brasil, Sao Paulo, BRAS)\n\n11:00 Uhr -  Kafeepause\n\n11:15 Uhr\nModernisierung, Reparatur und Wartung von Mehrzweckkammer- und Durchstossofenanlagen\nMichael Aurand (Leiter Service, SECO/WARWICK Service GmbH, Bedburg-Hau, D)\n\n12:00 Uhr\n\nErfahrung mit normalen und abnahmegeregelten Endogasgeneratoren (15%-100% der nominalen Produktion)\nUlrich Reese (Geschäftsführer, Härterei REESE Chemnitz)\n\n13:00 Uhr - Mittagspause mit gemeinsamen Mittagessen\n\n14:00 Uhr\nAIAG CQI – Prozessmanagementsystem der Automobilindustrie\nMarkus Milde (Geschäftsführer M. Milde heat treatment and nadcap consulting service, Dortmund, D)\n\n15:00 Uhr\nTechnik des Vakuumhärtens großer Werkzeuge und die NADCA-Anforderungen\nFranz Bless (Senior Consultant, SECO/WARWICK Service GmbH, Bedburg-Hau, D)\n\n16:00 Uhr\nProzesszeiten, Verbrauch und Verfahren in verschiedenen Retorten-Nitrierofenanlagen\nKarl Schrittwieser (Rheintal Härtetechnik AG, Sennwald, CH)\n\n17:00 Uhr\nAnforderungen an Anlagen und Prozesse für die Luftfahrtindustrie (NADCAP)\nReferent wird noch benannt\n\n18:30 Uhr – Erfahrungsaustausch und Diskussionen beim gemeinssamen Abendessen\n\nZweiter Tag - Freitag, 13.11.2014\n\n8:00 Uhr\n\nEffizienter Einsatz von technischen Gasen in Härtereien: Einsparungen, Entwicklungen und Zukunft\nGuido Plicht (AirProducts GmbH, Bochum, D)\n\n9:00 Uhr\n\nSchachtaufkohlungsanlagen – Anwendung und praktische Erfahrungen\nHans-Jürgen Habernickel (Betriebsleiter, VTN Witten GmbH, Witten, D)\n\n10:00 Uhr -  Kafeepause\n\n10:15 Uhr\nQualitäts- und Sicherheitsaspekte von Abschreckölen und Härteschutzmitteln für den prozesssicheren Einsatz \nin der Wärmebehandlung\nThomas Scholz (Assistent der GF, Burgdorf GmbH &amp; Co. KG, Stuttgart, D)\n\n11:00 Uhr\n\nBainitgefüge – Prozesse und Ergebnisse\nDr. Matthias Steinbacher (Institut für Werkstofftechnik IWT, Bremen, D)\n\nab 12:30 Uhr – Mittagsimbiss und Verabschiedung\n\n\nDie Referenten:\n\nJan Elwart – Präsident der Bodycote-Gruppe i.R. ist einer der größten Kenner der Härtereilandschaft in Europa. Durch seine langjährigen Erfahrungen im Management, Aufbau, Umbau, Betrieb von Härtereistandorten in Deutschland und im Ausland besitzt er den Erfahrungsschatz, wie Anlagen, Prozesse, Betriebsabläufe und das Umfeld strukturiert sein muss, um erfolgreich eine Härterei zu betreiben.\n\nUlrich Reese – Geschäftsführer der Härterei Reese Chemnitz\n\nFranz Bless -  Seniorberater\n\nDr.-Ing.  Matthias Steinbacher – Institut für Werkstoffkunde (IWT)\n\nGuido Plicht -  AirProducts, Bochum\n\nKarl Schrittwieser – Geschäftsführer Rehintal Härtetechnik AG\n\nThomas Kreuzaler  -  langjährig tätig im Bau, in der Installation, im Betrieb und Vertrieb von Ofenanlagen mit beruflichen Stationen bei ThyssenKrupp, Linde, Ipsen International, Bodycote, IHI und heute bei SECO/WARWICK in Deutschland und Brasilien. Basierend auf diesem Erfahrungsschatz kennt der für viele Anforderungen die praktikablen und kostengünstigen Alternativen.\n\nMichael Aurand – der Praktiker der SECO/WARWICK Service GmbH am und im Durchstoß- und Mehrzweckkammerofen. Praktische und jahrelanger Erfahrung als Serviceleiter bei renommierten Ofenbaufirmen machen den Telefonnothelfer für Betriebsstörungen auch zum Prozessspezialisten für schwierige  Aufgabenstellungen, die man nur vor Ort lösen kann. Einblicke in diesen Fundus seiner Erkenntnisse sind das Zuhören wert.\n\nHans-Jürgen Habernickel – langjähriger Werksleiter der VTN Witten GmbH und deren erster technischer Berater besitzt die praktische Erfahrung im Spannungsfeld zwischen Kunden, Anforderungen, Zertifizierungen, Prozessen und Anlagen. Mit klaren Linien in der Strategie der Wärmebehandlung, einer deutliche Abgrenzung gegenüber der Konkurrenz mit höchster Qualität sichert er den qulaitativen und wirtschaftlichen Erfolg der Härterei.\n\nThomas Scholz – Assistent in der Geschäftsführung der Burgdorf GmbH\n\n&nbsp;\n\nTeilnahme und Anmeldung\n\nDie Veranstaltung ist deutschsprachig und wird von der SECO/WARWICK Service GmbH gesponsort und organisiert. Bei Rückfragen zu Organisation, Konditionen oder zur Teilnahme wenden Sie sich bitte an Frau Klaudia Dudarz (klaudia.dudarz@secowarwick.com, Tel.: +49 2821 71310 19), die Ihnen auch bei der Hotelbuchung behilflich sein kann. Die Veranstaltung findet im Kurhaus Wiesbaden, Kurhausplatz 1, statt. Im Rahmen der Veranstaltung wird für Verpflegung (Kaffee, Getränke, Mittagessen (Do), Abendessen (Do), Mittagsimbiss (Fr)), die im Preis enthalten ist, gesorgt. Die Übernachtung ist nicht n der Unkostenbeteiligung enthalten. Die Unkostenbeteiligung an der Veranstaltung beträgt 299.- Euro für Vollzahler und 99.- Euro für Studenten/Schüler. Nach der Veranstaltung werden die Vorträge als Unterlagen mit einer Teilnahmebestätigung/einem Schulungsnachweis zur Verfügung gestellt. Bitte machen Sie bei der Anmeldung von der "Eticket-Option" über eine Paypal-Zahlung (Paypla-Komto, Kreditkarte, EC-Karte und Lastschrift) Gebrauch (siehe unten). Eine Umsatzsteuerrechnung wird Ihnen umgehend nach der Zahlung zugesandt.\n\n\n
LOCATION:Kurhaus Wiesbaden Härtereitage 2014 Kurhausplatz 1 D-65189 Wiesbaden 
END:VEVENT
END:VCALENDAR