BEGIN:VCALENDAR
VERSION:2.0
PRODID:-//SECO/WARWICK//NONSGML v1.0//EN
CALSCALE:GREGORIAN
METHOD:PUBLISH
BEGIN:VTIMEZONE
TZID:Europe/Berlin
X-LIC-LOCATION:Europe/Berlin
BEGIN:DAYLIGHT
TZOFFSETFROM:+0100
TZOFFSETTO:+0200
TZNAME:CESTDTSTART:19700329T020000
RRULE:FREQ=YEARLY;INTERVAL=1;BYDAY=-1SU;BYMONTH=3
END:DAYLIGHT
BEGIN:STANDARD
TZOFFSETFROM:+0200
TZOFFSETTO:+0100
TZNAME:CET
DTSTART:19701025T030000
RRULE:FREQ=YEARLY;INTERVAL=1;BYDAY=-1SU;BYMONTH=10
END:STANDARD
END:VTIMEZONE
BEGIN:VEVENT
UID:8f7e96f8b5d0f288567be2884b4e0cbb@seco-warwick.com
DTSTAMP:20260425T005619
DTSTART;TZID=Europe/Berlin:20221011T000000
DTEND;TZID=Europe/Berlin:20221013T000000
SUMMARY;CHARSET=UTF-8:Visit SECO/WARWICK at 78. Heat Treatment Congress + Steel Innovation 2022 | booth B-054
DESCRIPTION:For the first time, two conferences and a trade fair will be held under one roof: HK 2022 - The Heat Treatment Congress, is the largest European congress on topics of heat treatment and materials technology, manufacturing, and process engineering. The second event is SI 2022 - The new Steel Innovation Scientific conference on innovations in materials technology, production, processing, and application of steels.\n\nThis year in Cologne (Germany) SECO/WARWICK, as the first-choice company, will present modern, energy-efficient, and ecological vacuum heat treatment equipment with guaranteed technological results:\n\n 	Vector® –a single-chamber vacuum furnace using gas quenching for a wide variety of heat-treating processes and applications. This technology provides important capabilities for obtaining highly uniform results in heat-treated parts, high process consistency in workloads, and high speeds in batch processing with low consumption of electrical power and process gases.\n 	CaseMaster Evolution T –a triple-chamber vacuum furnace designed for high-volume heat treatment processes such as low-pressure carburizing (LPC), annealing or vacuum brazing, combined with gas or oil quenching in semi-continuous production mode. The system is built with three separate, functional chambers: the loading and pre-heating chamber, process chamber, quenching and unloading chamber.\n 	Super IQ® – a new-generation Integral Quench (IQ) furnace designed for low-pressure carburizing applications. The solution is designed so that it can be added to existing atmosphere carburizing furnace process lines without any need to significantly modify the existing infrastructure.\n 	ZeroFlow® – a modern, energy-saving, and ecological gas nitriding technology used in HRN/VRN type furnaces, allowing for the precise development of the preset composition of the nitrided layer, composed only of alpha, alpha+gamma’ or alpha+gamma’+ epsilon phase, while maintaining minimum ammonia consumption, and thus, minimum emissions of post-process gasses.\n 	Roller hearth - atmosphere heat treatment furnaces are designed to heat treat a wide variety of products economically with uniform, repeatable results. There’s a wide range of sizes of electric or fuel-fired heating systems with matched cooling sections and material handling systems for bearing, fasteners, automotive industry.\n\n&nbsp;\n\nVisit our booth #A-070 and get to know our experts.\n\nThe SECO/WARWICK team would love to meet you at this event!
LOCATION:Koelnmesse Messepl. 1 50679 Köln 1 
URL:https://www.hk-si.de 
END:VEVENT
END:VCALENDAR