BEGIN:VCALENDAR
VERSION:2.0
PRODID:-//SECO/WARWICK//NONSGML v1.0//EN
CALSCALE:GREGORIAN
METHOD:PUBLISH
BEGIN:VTIMEZONE
TZID:Europe/Berlin
X-LIC-LOCATION:Europe/Berlin
BEGIN:DAYLIGHT
TZOFFSETFROM:+0100
TZOFFSETTO:+0200
TZNAME:CESTDTSTART:19700329T020000
RRULE:FREQ=YEARLY;INTERVAL=1;BYDAY=-1SU;BYMONTH=3
END:DAYLIGHT
BEGIN:STANDARD
TZOFFSETFROM:+0200
TZOFFSETTO:+0100
TZNAME:CET
DTSTART:19701025T030000
RRULE:FREQ=YEARLY;INTERVAL=1;BYDAY=-1SU;BYMONTH=10
END:STANDARD
END:VTIMEZONE
BEGIN:VEVENT
UID:bdde76acc3e0c372d1e9d4b9d1a12474@seco-warwick.com
DTSTAMP:20260425T033747
DTSTART;TZID=Europe/Berlin:20201021T090000
DTEND;TZID=Europe/Berlin:20201022T170000
SUMMARY;CHARSET=UTF-8:Visit SECO/WARWICK at Kongres Obróbki Cieplnej (HK) 2020 | booth E-069
DESCRIPTION:W Kolonii (Niemcy) SECO/WARWICK zaprezentuje  rozwiązania uwielbiane przez rynek niemiecko-języczny. Nie zabraknie też premiery ubiegłego HK, tj:\n\n 	UCM® 4D Quench® -  próżniowego systemu do hartowania pojedynczych elementów w azocie z kontrolą odkształceń\n 	Piec Super IQ® hybrydowego systemu łączącego cechy konwencjonalnego i próżniowego pieca w jednym. Ten piec atmosferowy zaprojektowany przede wszystkim do procesów nawęglania w podwyższonych temperaturach i hartowania.\n\nChcesz dowiedzieć się więcej, zapraszamy na stoisko E-069 SECO/WARWICK.
LOCATION:Niemcy   Kolonia 1 
END:VEVENT
END:VCALENDAR