BEGIN:VCALENDAR
VERSION:2.0
PRODID:-//SECO/WARWICK//NONSGML v1.0//EN
CALSCALE:GREGORIAN
METHOD:PUBLISH
BEGIN:VTIMEZONE
TZID:Europe/Berlin
X-LIC-LOCATION:Europe/Berlin
BEGIN:DAYLIGHT
TZOFFSETFROM:+0100
TZOFFSETTO:+0200
TZNAME:CESTDTSTART:19700329T020000
RRULE:FREQ=YEARLY;INTERVAL=1;BYDAY=-1SU;BYMONTH=3
END:DAYLIGHT
BEGIN:STANDARD
TZOFFSETFROM:+0200
TZOFFSETTO:+0100
TZNAME:CET
DTSTART:19701025T030000
RRULE:FREQ=YEARLY;INTERVAL=1;BYDAY=-1SU;BYMONTH=10
END:STANDARD
END:VTIMEZONE
BEGIN:VEVENT
UID:0df5e14a06082cdb3adf4507c4f33eef@seco-warwick.com
DTSTAMP:20260424T122226
DTSTART;TZID=Europe/Berlin:20130625
DTEND;TZID=Europe/Berlin:20130629
SUMMARY;CHARSET=UTF-8:Visit SECO/WARWICK at Metallurgy Litmash; Aluminium/Non-Ferrous  Rosja | booth E01
DESCRIPTION:
LOCATION:EXPOCENTRE  Fairgrounds at Krasnaya Presnya   Moskwa 13 
URL:http://www.metallurgy-tube-russia.com/
END:VEVENT
END:VCALENDAR