BEGIN:VCALENDAR
VERSION:2.0
PRODID:-//SECO/WARWICK//NONSGML v1.0//EN
CALSCALE:GREGORIAN
METHOD:PUBLISH
BEGIN:VTIMEZONE
TZID:Europe/Berlin
X-LIC-LOCATION:Europe/Berlin
BEGIN:DAYLIGHT
TZOFFSETFROM:+0100
TZOFFSETTO:+0200
TZNAME:CESTDTSTART:19700329T020000
RRULE:FREQ=YEARLY;INTERVAL=1;BYDAY=-1SU;BYMONTH=3
END:DAYLIGHT
BEGIN:STANDARD
TZOFFSETFROM:+0200
TZOFFSETTO:+0100
TZNAME:CET
DTSTART:19701025T030000
RRULE:FREQ=YEARLY;INTERVAL=1;BYDAY=-1SU;BYMONTH=10
END:STANDARD
END:VTIMEZONE
BEGIN:VEVENT
UID:4251188ad2417a8935b01520b6dc359a@seco-warwick.com
DTSTAMP:20260424T202027
DTSTART;TZID=Europe/Berlin:20140916T000000
DTEND;TZID=Europe/Berlin:20140919T000000
SUMMARY;CHARSET=UTF-8:Visit SECO/WARWICK at Metalurgia 2014 | booth C254
DESCRIPTION:EXPANSÃO DA METALURGIA: PRODUTOS INOVADORES \nCOM AVANÇOS TECNOLÓGICOS\nO setor metal-mecânico no Brasil sai de uma fase de retração e já apresenta índices de recuperação, com previsão de aumento para os próximos anos. Só na indústria de caminhões, seis novas fábricas iniciam suas atividades no país: DAF, JAC, Foton Aumark, Sinotruck, Metro-Schacman e International. Enquanto que, as já instaladas estão ampliando suas linhas com modelos mais pesados, mostrando que haverá forte aumento na demanda do setor.\nA região Norte catarinense é uma das mais desenvolvidas do Brasil neste setor, e está atraindo grandes empresas a instalarem novas fábricas, a exemplo da GM com suas duas unidades e da BMW; somando-se àquelas já sediadas aqui como a Tupy, Docol, Whirlpool, Embraco, Weg, Tuper, ArcelorMittal, Marcegaglia, Schulz, Zen, Wetzel, Altona e outras.\nNo centro de toda essa expansão está a feira da Metalurgia, que atrai expositores e visitantes do Brasil, e do exterior. Há mais de 15 anos integra e desenvolve a cadeia produtiva do setor apresentando produtos inovadores com avanços tecnológicos.
LOCATION:Pavilhões da Expoville Rua quinze de novembro, 4350 Joinville - SC, CEP 89201-601 
URL:http://www.metalurgia.com.br/
END:VEVENT
END:VCALENDAR