BEGIN:VCALENDAR
VERSION:2.0
PRODID:-//SECO/WARWICK//NONSGML v1.0//EN
CALSCALE:GREGORIAN
METHOD:PUBLISH
BEGIN:VTIMEZONE
TZID:Europe/Berlin
X-LIC-LOCATION:Europe/Berlin
BEGIN:DAYLIGHT
TZOFFSETFROM:+0100
TZOFFSETTO:+0200
TZNAME:CESTDTSTART:19700329T020000
RRULE:FREQ=YEARLY;INTERVAL=1;BYDAY=-1SU;BYMONTH=3
END:DAYLIGHT
BEGIN:STANDARD
TZOFFSETFROM:+0200
TZOFFSETTO:+0100
TZNAME:CET
DTSTART:19701025T030000
RRULE:FREQ=YEARLY;INTERVAL=1;BYDAY=-1SU;BYMONTH=10
END:STANDARD
END:VTIMEZONE
BEGIN:VEVENT
UID:23bf3adddc90c21ba253d8c319a4aa54@seco-warwick.com
DTSTAMP:20260425T003105
DTSTART;TZID=Europe/Berlin:20230612T000000
DTEND;TZID=Europe/Berlin:20230616T000000
SUMMARY;CHARSET=UTF-8:Visit SECO/WARWICK at THERMPROCESS 2023 – 13th International Trade Fair and Symposium for Thermo Process Technology
DESCRIPTION:Thermprocess is the most important trade fair in the industry where international experts and decision makers meet.\n\nJoin us at Thermprocess 2023 in Düsseldorf.\n\nSECO/WARWICK Group - The 1st Choice Supplier of Solutions for Green Heat Treatment and Metallurgy.\n\nVisit us at this event at booth C–26, hall 9 to learn more about how we create innovative products that give reliable, safe and green solutions for heat treatment and metallurgy.\n\nSave the date now and visit a wide range of our experts at Düsseldorf Exhibition Centre during Thermprocess 2023.
LOCATION:Messe Düsseldorf  40474  Düsseldorf 1 
URL:https://www.thermprocess-online.com/ 
END:VEVENT
END:VCALENDAR