BEGIN:VCALENDAR
VERSION:2.0
PRODID:-//SECO/WARWICK//NONSGML v1.0//EN
CALSCALE:GREGORIAN
METHOD:PUBLISH
BEGIN:VTIMEZONE
TZID:Europe/Berlin
X-LIC-LOCATION:Europe/Berlin
BEGIN:DAYLIGHT
TZOFFSETFROM:+0100
TZOFFSETTO:+0200
TZNAME:CESTDTSTART:19700329T020000
RRULE:FREQ=YEARLY;INTERVAL=1;BYDAY=-1SU;BYMONTH=3
END:DAYLIGHT
BEGIN:STANDARD
TZOFFSETFROM:+0200
TZOFFSETTO:+0100
TZNAME:CET
DTSTART:19701025T030000
RRULE:FREQ=YEARLY;INTERVAL=1;BYDAY=-1SU;BYMONTH=10
END:STANDARD
END:VTIMEZONE
BEGIN:VEVENT
UID:1ee815e08e028c449b0d7cf645c4aa9c@seco-warwick.com
DTSTAMP:20260424T144621
DTSTART;TZID=Europe/Berlin:20130514
DTEND;TZID=Europe/Berlin:20130516
SUMMARY;CHARSET=UTF-8:Visit SECO/WARWICK at Stainless Steel 2013 in Brno (Czech Republic) | booth 1C2
DESCRIPTION:Brno - the door to growing marketsFrom 14 to 15 May 2013On May 14 and 15, 2013, stainless steel producers, traders and users, as well as suppliers of processing equipment and consumables, will gather together at Stainless 2013 - the International Stainless Steel Exhibition in Brno in the Czech Republic. From the very beginning, this event has been considered as the door to the growing markets of Central and Eastern Europe. Brno, with exhibition halls that conform to international standards, almost perfect national and international transport links, and an extensive range of hotel accommodation, as well as everything else that a modern exhibition city has to offer, is the optimal venue.  The International Stainless Steel Exhibition - Stainless, which is held every two years in the Czech Republic, is now considered one of the most important events in the stainless steel industry, worldwide.This international sector meeting, and this is how the organisers see Stainless, offers exhibitors and visitors interested in the Czech and Polish stainless steel markets, and markets in bordering countries, an ideal platform for presentation and communication. Making contact with, and renewing contacts with potential partners and customers is made particularly easy because the European stainless steel sector itself will be present in May 2013 in Brno.
LOCATION:Brno Exhibition Center Hall F Výstaviště 1 CZ-647 00 Brno 5 
END:VEVENT
END:VCALENDAR