BEGIN:VCALENDAR
VERSION:2.0
PRODID:-//SECO/WARWICK//NONSGML v1.0//EN
CALSCALE:GREGORIAN
METHOD:PUBLISH
BEGIN:VTIMEZONE
TZID:Europe/Berlin
X-LIC-LOCATION:Europe/Berlin
BEGIN:DAYLIGHT
TZOFFSETFROM:+0100
TZOFFSETTO:+0200
TZNAME:CESTDTSTART:19700329T020000
RRULE:FREQ=YEARLY;INTERVAL=1;BYDAY=-1SU;BYMONTH=3
END:DAYLIGHT
BEGIN:STANDARD
TZOFFSETFROM:+0200
TZOFFSETTO:+0100
TZNAME:CET
DTSTART:19701025T030000
RRULE:FREQ=YEARLY;INTERVAL=1;BYDAY=-1SU;BYMONTH=10
END:STANDARD
END:VTIMEZONE
BEGIN:VEVENT
UID:fa1fbc454e0f7822813e763704fd0295@seco-warwick.com
DTSTAMP:20260424T173521
DTSTART;TZID=Europe/Berlin:20150916
DTEND;TZID=Europe/Berlin:20150918
SUMMARY;CHARSET=UTF-8:Visit SECO/WARWICK at XVIII Seminarium &quot;Nowoczesne Trendy w OC&quot; 2015
DESCRIPTION:Serdecznie zapraszamy na XVIII Seminarium &quot;Nowoczesne Trendy w Obróbce Cieplnej&quot; w Polsce.

LOCATION:Hotel Navigator*** ul. Łąkowa 7 64-360  12 
URL:https://www.secowarwick.com/pl/informacje/seminariu
END:VEVENT
END:VCALENDAR