BEGIN:VCALENDAR
VERSION:2.0
PRODID:-//SECO/WARWICK//NONSGML v1.0//EN
CALSCALE:GREGORIAN
METHOD:PUBLISH
BEGIN:VTIMEZONE
TZID:Europe/Berlin
X-LIC-LOCATION:Europe/Berlin
BEGIN:DAYLIGHT
TZOFFSETFROM:+0100
TZOFFSETTO:+0200
TZNAME:CESTDTSTART:19700329T020000
RRULE:FREQ=YEARLY;INTERVAL=1;BYDAY=-1SU;BYMONTH=3
END:DAYLIGHT
BEGIN:STANDARD
TZOFFSETFROM:+0200
TZOFFSETTO:+0100
TZNAME:CET
DTSTART:19701025T030000
RRULE:FREQ=YEARLY;INTERVAL=1;BYDAY=-1SU;BYMONTH=10
END:STANDARD
END:VTIMEZONE
BEGIN:VEVENT
UID:abe1c4cf25250c5437ade0a1b35c95f8@seco-warwick.com
DTSTAMP:20260425T034256
DTSTART;TZID=Europe/Berlin:20201021T090000
DTEND;TZID=Europe/Berlin:20201022T170000
SUMMARY;CHARSET=UTF-8:Visit SECO/WARWICK at Конгресс термообработки 2020 | booth E-069
DESCRIPTION:В Кёльне (Германия) Группа SECO/WARWICK представит решения, популярные на немецкоязычном рынке.\nЗдесь также будут представлены продукты, премьера которых состоялась во время HK в прошлом годы, а именно:\n\n• UCM® 4D Quench® – вакуумная система для поштучной закалки элементов азотом с контролем деформации.\n• Печь Super IQ®, являющаяся гибридной системой, которая сочетает традиционную и вакуумную печь в одном решении. Эта атмосферная печь разработана, прежде всего, для процессов науглероживания в повышенных температурах и закалки.\n\nМы приглашаем на стенд Группы SECO/WARWICK, где вы сможете ознакомиться с технологиями более подробно.
LOCATION:Германия   одеколон 1 
END:VEVENT
END:VCALENDAR