BEGIN:VCALENDAR
VERSION:2.0
PRODID:-//SECO/WARWICK//NONSGML v1.0//EN
CALSCALE:GREGORIAN
METHOD:PUBLISH
BEGIN:VTIMEZONE
TZID:Europe/Berlin
X-LIC-LOCATION:Europe/Berlin
BEGIN:DAYLIGHT
TZOFFSETFROM:+0100
TZOFFSETTO:+0200
TZNAME:CESTDTSTART:19700329T020000
RRULE:FREQ=YEARLY;INTERVAL=1;BYDAY=-1SU;BYMONTH=3
END:DAYLIGHT
BEGIN:STANDARD
TZOFFSETFROM:+0200
TZOFFSETTO:+0100
TZNAME:CET
DTSTART:19701025T030000
RRULE:FREQ=YEARLY;INTERVAL=1;BYDAY=-1SU;BYMONTH=10
END:STANDARD
END:VTIMEZONE
BEGIN:VEVENT
UID:a7e237e2d771b7288f586dddfcd21306@seco-warwick.com
DTSTAMP:20260424T190805
DTSTART;TZID=Europe/Berlin:20150916
DTEND;TZID=Europe/Berlin:20150918
SUMMARY;CHARSET=UTF-8:Visit SECO/WARWICK at 18th Seminar &quot;New Trends in Heat Treatment&quot; 2015
DESCRIPTION:You are invited to SECO/WARWICK Group's 18th Seminar, &quot;New Trends in Heat Treatment&quot; in Poland. 
Participation cost: 285 EUR net.
If you need more details, please contact us.   
LOCATION:Hotel Navigator*** ul. Łąkowa 7 64-360 Zbąszyń 12 
URL:https://www.secowarwick.com/pl/informacje/seminariu
END:VEVENT
END:VCALENDAR