BEGIN:VCALENDAR
VERSION:2.0
PRODID:-//SECO/WARWICK//NONSGML v1.0//EN
CALSCALE:GREGORIAN
METHOD:PUBLISH
BEGIN:VTIMEZONE
TZID:Europe/Berlin
X-LIC-LOCATION:Europe/Berlin
BEGIN:DAYLIGHT
TZOFFSETFROM:+0100
TZOFFSETTO:+0200
TZNAME:CESTDTSTART:19700329T020000
RRULE:FREQ=YEARLY;INTERVAL=1;BYDAY=-1SU;BYMONTH=3
END:DAYLIGHT
BEGIN:STANDARD
TZOFFSETFROM:+0200
TZOFFSETTO:+0100
TZNAME:CET
DTSTART:19701025T030000
RRULE:FREQ=YEARLY;INTERVAL=1;BYDAY=-1SU;BYMONTH=10
END:STANDARD
END:VTIMEZONE
BEGIN:VEVENT
UID:2c4977955e9fe180b562cc74825621da@seco-warwick.com
DTSTAMP:20260424T201814
DTSTART;TZID=Europe/Berlin:20241105T000000
DTEND;TZID=Europe/Berlin:20241107T230000
SUMMARY;CHARSET=UTF-8:Visit SECO/WARWICK at AAPEX 2024 | booth #A5415
DESCRIPTION:SECO/WARWICK will feature batch and continuous controlled atmosphere brazing (CAB) systems at the APPEX/NARSA 2024 event, including the Universal Batch CAB system.\n\nAs the 1st Choice Supplier of Controlled Atmosphere Brazing (CAB) technologies used in automotive cooling systems, SECO/WARWICK plays an important role at this important trade fair.\n\nVisit us to learn more:\n\n 	The CAB Batch Furnace family consists of two basic types of batch models that are available in a variety of configurations including the standard batch CAB, plus units equipped with a vacuum purging option. The two-chamber atmosphere batch system allows for variable heating and cooling rates, depending on product requirements\n\nThe SECO/WARWICK team would love to meet you at the event!\n\nVisit our booth #A5415 and get to know our experts!
LOCATION:Venue: The Venetian Expo & Caesars Forum Conference Center,  City: LAS VEGAS, NV  
URL:https://www.aapexshow.com 
END:VEVENT
END:VCALENDAR