BEGIN:VCALENDAR
VERSION:2.0
PRODID:-//SECO/WARWICK//NONSGML v1.0//EN
CALSCALE:GREGORIAN
METHOD:PUBLISH
BEGIN:VTIMEZONE
TZID:Europe/Berlin
X-LIC-LOCATION:Europe/Berlin
BEGIN:DAYLIGHT
TZOFFSETFROM:+0100
TZOFFSETTO:+0200
TZNAME:CESTDTSTART:19700329T020000
RRULE:FREQ=YEARLY;INTERVAL=1;BYDAY=-1SU;BYMONTH=3
END:DAYLIGHT
BEGIN:STANDARD
TZOFFSETFROM:+0200
TZOFFSETTO:+0100
TZNAME:CET
DTSTART:19701025T030000
RRULE:FREQ=YEARLY;INTERVAL=1;BYDAY=-1SU;BYMONTH=10
END:STANDARD
END:VTIMEZONE
BEGIN:VEVENT
UID:dceb60f912ebdcec6cc293d07f86ae8c@seco-warwick.com
DTSTAMP:20260422T011329
DTSTART;TZID=Europe/Berlin:20181007T000000
DTEND;TZID=Europe/Berlin:20181010T000000
SUMMARY;CHARSET=UTF-8:Visit SECO/WARWICK at International Titanium Association - TITANIUM 2018 | booth 617
DESCRIPTION:At this year’s INTERNATIONAL TITANIUM ASSOCIATION – TITANIUM 2018, held in Las Vegas, Retech, a SECO/WARWICK Group company, will present:\n\n\n 	Plasma Arc Melting\n 	Electron Beam Cold Hearth Melting\n 	Vacuum Arc Remelting\n 	Cold-Wall Induction\n 	Titanium and Reactive Metal Atomizers\n\nIf you want to learn more about our latest technologies, visit our booth #617 and get to know our experts.
LOCATION:Bellagio Las Vegas 3600 S Las Vegas Blvd. Las Vegas, Nevada 89109 USA 
URL:http://www.cvent.com/events/las-vegas-titanium-usa-2018-exhibition-space/event-summary-7551e2e25a88437aa68bf4d698536d9b.aspx
END:VEVENT
END:VCALENDAR