BEGIN:VCALENDAR
VERSION:2.0
PRODID:-//SECO/WARWICK//NONSGML v1.0//EN
CALSCALE:GREGORIAN
METHOD:PUBLISH
BEGIN:VTIMEZONE
TZID:Europe/Berlin
X-LIC-LOCATION:Europe/Berlin
BEGIN:DAYLIGHT
TZOFFSETFROM:+0100
TZOFFSETTO:+0200
TZNAME:CESTDTSTART:19700329T020000
RRULE:FREQ=YEARLY;INTERVAL=1;BYDAY=-1SU;BYMONTH=3
END:DAYLIGHT
BEGIN:STANDARD
TZOFFSETFROM:+0200
TZOFFSETTO:+0100
TZNAME:CET
DTSTART:19701025T030000
RRULE:FREQ=YEARLY;INTERVAL=1;BYDAY=-1SU;BYMONTH=10
END:STANDARD
END:VTIMEZONE
BEGIN:VEVENT
UID:73fb47ea4a75275e8feb3c847f11c675@seco-warwick.com
DTSTAMP:20260424T130810
DTSTART;TZID=Europe/Berlin:20130708
DTEND;TZID=Europe/Berlin:20130712
SUMMARY;CHARSET=UTF-8:Visit SECO/WARWICK at INTERSOLAR 2013
DESCRIPTION:Intersolar North America focuses on photovoltaics and solar thermal technologies. Exhibitors include PV cell, module and inverter manufacturers, components and mounting systems suppliers, manufacturing system suppliers, service companies as well as manufacturers of solar thermal applications including heating and cooling, among others.
LOCATION:Moscone Center 747 Howard Street  San Francisco 7 
URL:http://www.intersolar.us/en/intersolar.html
END:VEVENT
END:VCALENDAR