BEGIN:VCALENDAR
VERSION:2.0
PRODID:-//SECO/WARWICK//NONSGML v1.0//EN
CALSCALE:GREGORIAN
METHOD:PUBLISH
BEGIN:VTIMEZONE
TZID:Europe/Berlin
X-LIC-LOCATION:Europe/Berlin
BEGIN:DAYLIGHT
TZOFFSETFROM:+0100
TZOFFSETTO:+0200
TZNAME:CESTDTSTART:19700329T020000
RRULE:FREQ=YEARLY;INTERVAL=1;BYDAY=-1SU;BYMONTH=3
END:DAYLIGHT
BEGIN:STANDARD
TZOFFSETFROM:+0200
TZOFFSETTO:+0100
TZNAME:CET
DTSTART:19701025T030000
RRULE:FREQ=YEARLY;INTERVAL=1;BYDAY=-1SU;BYMONTH=10
END:STANDARD
END:VTIMEZONE
BEGIN:VEVENT
UID:a12edc6a042883210762d21fb24d7444@seco-warwick.com
DTSTAMP:20260424T144946
DTSTART;TZID=Europe/Berlin:20141013
DTEND;TZID=Europe/Berlin:20141017
SUMMARY;CHARSET=UTF-8:Visit SECO/WARWICK at Materials Science &amp; Technology 2014
DESCRIPTION:The MS&amp;T partnership of ACerS, AIST, ASM, and TMSbrings together scientists, engineers, students, suppliers and more to discuss current research and technical applications, and to shape the future of materials science and technology. NACE International will co-sponsor MS&amp;T14.
Tom Lord from the SECO/WARWICK Corp. Vacuum Team will present a paper at this year's conference.
LOCATION:David L. Lawrence Convention Center
1000 Fort Duquesne Blvd.
Pittsburgh,  PA 15222 
URL:http://www.asminternational.org/
END:VEVENT
END:VCALENDAR