BEGIN:VCALENDAR
VERSION:2.0
PRODID:-//SECO/WARWICK//NONSGML v1.0//EN
CALSCALE:GREGORIAN
METHOD:PUBLISH
BEGIN:VTIMEZONE
TZID:Europe/Berlin
X-LIC-LOCATION:Europe/Berlin
BEGIN:DAYLIGHT
TZOFFSETFROM:+0100
TZOFFSETTO:+0200
TZNAME:CESTDTSTART:19700329T020000
RRULE:FREQ=YEARLY;INTERVAL=1;BYDAY=-1SU;BYMONTH=3
END:DAYLIGHT
BEGIN:STANDARD
TZOFFSETFROM:+0200
TZOFFSETTO:+0100
TZNAME:CET
DTSTART:19701025T030000
RRULE:FREQ=YEARLY;INTERVAL=1;BYDAY=-1SU;BYMONTH=10
END:STANDARD
END:VTIMEZONE
BEGIN:VEVENT
UID:378d19204cf7caa4172068e1755aedbd@seco-warwick.com
DTSTAMP:20260424T155901
DTSTART;TZID=Europe/Berlin:20130923
DTEND;TZID=Europe/Berlin:20130926
SUMMARY;CHARSET=UTF-8:Visit SECO/WARWICK at Progress in Brazing Technology
DESCRIPTION: The 4th International Technical and Scientific Conference - &quot;Progress in Brazing Technology&quot;. 
 
LOCATION:building B4 Wroclaw University of Technology Ignacego Łukasiewicza 5 50-370 Wroclaw 12 
END:VEVENT
END:VCALENDAR