BEGIN:VCALENDAR
VERSION:2.0
PRODID:-//SECO/WARWICK//NONSGML v1.0//EN
CALSCALE:GREGORIAN
METHOD:PUBLISH
BEGIN:VTIMEZONE
TZID:Europe/Berlin
X-LIC-LOCATION:Europe/Berlin
BEGIN:DAYLIGHT
TZOFFSETFROM:+0100
TZOFFSETTO:+0200
TZNAME:CESTDTSTART:19700329T020000
RRULE:FREQ=YEARLY;INTERVAL=1;BYDAY=-1SU;BYMONTH=3
END:DAYLIGHT
BEGIN:STANDARD
TZOFFSETFROM:+0200
TZOFFSETTO:+0100
TZNAME:CET
DTSTART:19701025T030000
RRULE:FREQ=YEARLY;INTERVAL=1;BYDAY=-1SU;BYMONTH=10
END:STANDARD
END:VTIMEZONE
BEGIN:VEVENT
UID:159904185081344506b5af18d73d2041@seco-warwick.com
DTSTAMP:20260424T231014
DTSTART;TZID=Europe/Berlin:20231024T000000
DTEND;TZID=Europe/Berlin:20231026T000000
SUMMARY;CHARSET=UTF-8:Visit SECO/WARWICK at 79. HeatTreatmentCongress 2023 + 2nd Steel Innovation | booth F-039
DESCRIPTION:Once again, two conferences and a trade fair will be held under one roof: HK 2023 - The Heat Treatment Congress, is the largest European congress on topics of heat treatment and materials technology, manufacturing, and process engineering. The second event is SI 2023 - The new Steel Innovation Scientific conference on innovations in materials technology, production, processing, and application of steels.\n\nSECO / WARWICK, as the 1st Choice Supplier, will present modern, energy efficient and ecological vacuum heat treatment equipment at the European Conference Heat Treatment 2023 fair and our expert Paweł Okińczyc will present a lecture on top SECO/WARWICK’s technology:\n/ Date: October 26th, 01:15 pm\n/ Speaker: Grzegorz Głuchowski\n“Low Pressure Carbonitriding – heat treatment suited for a sustainable future”\n\n\nDiscover top solutions for green heat treatment of metals at our stand:\n\n 	Vector® – a single-chamber vacuum furnace using gas quenching for a wide variety of heat-treating processes and applications. This technology provides important capabilities for obtaining highly uniform results in heat-treated parts, high process consistency in workloads, and high speeds in batch processing with low consumption of electrical power and process gases.\n 	CaseMaster Evolution T – a triple-chamber vacuum furnace designed for high-volume heat treatment processes such as low-pressure carburizing (LPC), annealing or vacuum brazing, combined with gas or oil quenching in semi-continuous production mode. The system is built with three separate, functional chambers: the loading and pre-heating chamber, process chamber, quenching and unloading chamber.\n 	Super IQ® – a new-generation Integral Quench (IQ) furnace designed for low-pressure carburizing applications. The solution is designed so that it can be added to existing atmosphere carburizing furnace process lines without any need to significantly modify the existing infrastructure.\n 	ZeroFlow® – a modern, energy-saving, and ecological gas nitriding technology used in HRN/VRN type furnaces, allowing for the precise development of the preset composition of the nitrided layer, composed only of alpha, alpha+gamma’ or alpha+gamma’+ epsilon phase, while maintaining minimum ammonia consumption, and thus, minimum emissions of post-process gasses.\n 	Roller hearth - atmosphere heat treatment furnaces are designed to heat treat a wide variety of products economically with uniform, repeatable results. There’s a wide range of sizes of electric or fuel-fired heating systems with matched cooling sections and material handling systems.\n\nVisit our booth #F-039 and get to know our experts.\nThe SECO/WARWICK team would love to meet you at this event!
LOCATION:Koelnmesse Messepl. 1 50679 Köln 1 
URL:https://www.hk-si.de 
END:VEVENT
END:VCALENDAR