BEGIN:VCALENDAR
VERSION:2.0
PRODID:-//SECO/WARWICK//NONSGML v1.0//EN
CALSCALE:GREGORIAN
METHOD:PUBLISH
BEGIN:VTIMEZONE
TZID:Europe/Berlin
X-LIC-LOCATION:Europe/Berlin
BEGIN:DAYLIGHT
TZOFFSETFROM:+0100
TZOFFSETTO:+0200
TZNAME:CESTDTSTART:19700329T020000
RRULE:FREQ=YEARLY;INTERVAL=1;BYDAY=-1SU;BYMONTH=3
END:DAYLIGHT
BEGIN:STANDARD
TZOFFSETFROM:+0200
TZOFFSETTO:+0100
TZNAME:CET
DTSTART:19701025T030000
RRULE:FREQ=YEARLY;INTERVAL=1;BYDAY=-1SU;BYMONTH=10
END:STANDARD
END:VTIMEZONE
BEGIN:VEVENT
UID:149622eb8325d83db4139fa2aa9cf724@seco-warwick.com
DTSTAMP:20260424T162049
DTSTART;TZID=Europe/Berlin:20131004
DTEND;TZID=Europe/Berlin:20131005
SUMMARY;CHARSET=UTF-8:Visit SECO/WARWICK at SEMINAR: Surface Hardening of Stainless Steel
DESCRIPTION:
LOCATION: Industrivænget 34 DK-3400 Hillerød 6 
END:VEVENT
END:VCALENDAR