BEGIN:VCALENDAR
VERSION:2.0
PRODID:-//SECO/WARWICK//NONSGML v1.0//EN
CALSCALE:GREGORIAN
METHOD:PUBLISH
BEGIN:VTIMEZONE
TZID:Europe/Berlin
X-LIC-LOCATION:Europe/Berlin
BEGIN:DAYLIGHT
TZOFFSETFROM:+0100
TZOFFSETTO:+0200
TZNAME:CESTDTSTART:19700329T020000
RRULE:FREQ=YEARLY;INTERVAL=1;BYDAY=-1SU;BYMONTH=3
END:DAYLIGHT
BEGIN:STANDARD
TZOFFSETFROM:+0200
TZOFFSETTO:+0100
TZNAME:CET
DTSTART:19701025T030000
RRULE:FREQ=YEARLY;INTERVAL=1;BYDAY=-1SU;BYMONTH=10
END:STANDARD
END:VTIMEZONE
BEGIN:VEVENT
UID:d16d6bc023c3b1f84b26286b18698642@seco-warwick.com
DTSTAMP:20260424T151655
DTSTART;TZID=Europe/Berlin:20130616
DTEND;TZID=Europe/Berlin:20130619
SUMMARY;CHARSET=UTF-8:Visit SECO/WARWICK at The 14th International HT &amp; Industrial Furnaces | booth 1822
DESCRIPTION:The 14th China (Guangzhou) International Heat Treatment & Industrial Furnaces Exhibition will be held at the largest exhibition center in Asia. Succeed to the rich resources and experience of the twelve exhibitions, it attracts 200,000 professional purchasers. It has been attending by more than 30 countries business departments, and issued by more than 300 media. With the view of the world, experts predict that the largest exhibition in the line will be held in China in the future, hope that we can service satisfied for you by our endeavor.
LOCATION:China Import and Export Fair Pazhou Complex   Guangzhou 26 
URL:www.heattreatmentexpo.com
END:VEVENT
END:VCALENDAR