BEGIN:VCALENDAR
VERSION:2.0
PRODID:-//SECO/WARWICK//NONSGML v1.0//EN
CALSCALE:GREGORIAN
METHOD:PUBLISH
BEGIN:VTIMEZONE
TZID:Europe/Berlin
X-LIC-LOCATION:Europe/Berlin
BEGIN:DAYLIGHT
TZOFFSETFROM:+0100
TZOFFSETTO:+0200
TZNAME:CESTDTSTART:19700329T020000
RRULE:FREQ=YEARLY;INTERVAL=1;BYDAY=-1SU;BYMONTH=3
END:DAYLIGHT
BEGIN:STANDARD
TZOFFSETFROM:+0200
TZOFFSETTO:+0100
TZNAME:CET
DTSTART:19701025T030000
RRULE:FREQ=YEARLY;INTERVAL=1;BYDAY=-1SU;BYMONTH=10
END:STANDARD
END:VTIMEZONE
BEGIN:VEVENT
UID:a203cc8cb84d02e30b58021a5d178661@seco-warwick.com
DTSTAMP:20260421T194531
DTSTART;TZID=Europe/Berlin:20190625T000000
DTEND;TZID=Europe/Berlin:20190629T000000
SUMMARY;CHARSET=UTF-8:Visit SECO/WARWICK at THERMPROCESS 2019 | booth 9C26
DESCRIPTION:SECO/WARWICK, часто называемая «новатором», «чемпионом», «законодателем в мире технологий» или «компанией, входящей в топ-5 производителей оборудования для термообработки», известна внедрением нестандартных решений.\n\nПозвольте нам доказать это и забрать Вас в другое измерение. Для этого Вам достаточно выполнить следующие шаги:\n\n1.     На Вашем мобильном телефоне войдите на наш сайт: www.secowarwick.com/ar\n2.     Мы рекомендуем использовать веб-браузер Safari для iPhone и веб-браузер Chrome для устройства с системой Android.\n\n3. Направьте Ваш телефон на указатель ↓\n\n\n\n4.     Наслаждайтесь расширенной реальностью\n\nПочему Группа является мировым лидером в области производства оборудования для термообработки и законодателем тенденций в сфере Индустрии 4.0? Приходите на наш стенд C26 в зале 9 и убедитесь сами.\n\nThermprocess – это самая важная международная выставка технологий термообработки, и мы воспользуемся возможностью, чтобы провести мировую премьеру наших двух новейших решений, которые революционизируют отрасль термообработки.\n\nUNICASE MASTER® 4D QUENCH®\n\nВакуумная система для поштучной закалки деталей с контролем за деформацией\n\n 	поток единичных изделий\n 	поточное производство\n 	бесшумная передача\n 	достижимый уровень качества: 5\n 	eCAR &amp; eDRIVE\n\nSuperIQ®\n\nПредлагает все преимущества цементации при низком давлении без дополнительных затрат.\n\n 	наиболее инновационная гибридная система с интегрированной закалочной печью\n 	отсутствие дополнительных затрат\n 	сочетает чистоту обработки и великолепные параметры закалки в масле\n 	может быть интегрирована в уже существующую линию традиционных печей\n\nВы не можете пропустить эту отличную возможность увидеть, как «инновация встречается с надежностью» (invention meets reliability).\n\nПриходите на презентацию нашего вице-председателя сегмента вакуумных печей на глобальном уровне Мацея Корецкого (Maciej Korecki), который на симпозиуме Thermprocess 27 июня в 10:30 раскроет тему «поштучной закалки азотом в качестве альтернативы для закалки под прессом».\n\nЗапишите дату в свой календарь и приходите на встречу с широким кругом наших экспертов в выставочный центр Дюссельдорфа во время выставки Thermprocess 2019.\n\nОдновременно приглашаем вас просмотреть короткий видеоролик о SECO/WARWICK:\nhttps://www.youtube.com/watch?v=M1EoSo8JEIo
LOCATION:Düsseldorf Exhibition Centre,   D-40474 Düsseldorf,   
URL:https://www.thermprocess-online.com/
END:VEVENT
END:VCALENDAR