BEGIN:VCALENDAR
VERSION:2.0
PRODID:-//SECO/WARWICK//NONSGML v1.0//EN
CALSCALE:GREGORIAN
METHOD:PUBLISH
BEGIN:VTIMEZONE
TZID:Europe/Berlin
X-LIC-LOCATION:Europe/Berlin
BEGIN:DAYLIGHT
TZOFFSETFROM:+0100
TZOFFSETTO:+0200
TZNAME:CESTDTSTART:19700329T020000
RRULE:FREQ=YEARLY;INTERVAL=1;BYDAY=-1SU;BYMONTH=3
END:DAYLIGHT
BEGIN:STANDARD
TZOFFSETFROM:+0200
TZOFFSETTO:+0100
TZNAME:CET
DTSTART:19701025T030000
RRULE:FREQ=YEARLY;INTERVAL=1;BYDAY=-1SU;BYMONTH=10
END:STANDARD
END:VTIMEZONE
BEGIN:VEVENT
UID:d433698aa00ba9f74e5f771e96b2e83e@seco-warwick.com
DTSTAMP:20260423T102006
DTSTART;TZID=Europe/Berlin:20170921T000000
DTEND;TZID=Europe/Berlin:20170923T000000
SUMMARY;CHARSET=UTF-8:Visit SECO/WARWICK at 2017 China (Beijing) International Light metal Expo | booth B220
DESCRIPTION:With the ever-increasing pressure on resources and environment around the global, lightweight technology become one of the hottest topics in high energy-consuming industry,such as in Automobile, Rail Transit, Aviation, National defense, shipping building etc. For better fuel efficiency &amp; emission reduction, many manufacturers and parts suppliers are looking for innovative technologies. Light Metals Expo is an exhibition dedicated solely to promote application of the Aluminum, Magnesium and Titanium Alloys and advanced techniques. Visitors will find the latest technology from all over the world.
LOCATION:No.6 North 3rd Ring East Road, Chaoyang Distrist, Beijing,China 
URL:http://www.cilmexpo.com/en/index.asp
END:VEVENT
END:VCALENDAR