BEGIN:VCALENDAR
VERSION:2.0
PRODID:-//SECO/WARWICK//NONSGML v1.0//EN
CALSCALE:GREGORIAN
METHOD:PUBLISH
BEGIN:VTIMEZONE
TZID:Europe/Berlin
X-LIC-LOCATION:Europe/Berlin
BEGIN:DAYLIGHT
TZOFFSETFROM:+0100
TZOFFSETTO:+0200
TZNAME:CESTDTSTART:19700329T020000
RRULE:FREQ=YEARLY;INTERVAL=1;BYDAY=-1SU;BYMONTH=3
END:DAYLIGHT
BEGIN:STANDARD
TZOFFSETFROM:+0200
TZOFFSETTO:+0100
TZNAME:CET
DTSTART:19701025T030000
RRULE:FREQ=YEARLY;INTERVAL=1;BYDAY=-1SU;BYMONTH=10
END:STANDARD
END:VTIMEZONE
BEGIN:VEVENT
UID:d71b081d9f2f58bcebc053e9c4c74e8c@seco-warwick.com
DTSTAMP:20260424T131730
DTSTART;TZID=Europe/Berlin:20130422
DTEND;TZID=Europe/Berlin:20130425
SUMMARY;CHARSET=UTF-8:Visit SECO/WARWICK at TRATERMAT 2013 | booth 18-19
DESCRIPTION:In keeping with a tradition established over the past 20 years the Congress again calls Tratermat all those interested and involved in the application, implementation, development and research of heat treatment and surface technologies.
LOCATION:   Barcelona 2 
URL:http://www.tratermat.es/
END:VEVENT
END:VCALENDAR