BEGIN:VCALENDAR
VERSION:2.0
PRODID:-//SECO/WARWICK//NONSGML v1.0//EN
CALSCALE:GREGORIAN
METHOD:PUBLISH
BEGIN:VTIMEZONE
TZID:Europe/Berlin
X-LIC-LOCATION:Europe/Berlin
BEGIN:DAYLIGHT
TZOFFSETFROM:+0100
TZOFFSETTO:+0200
TZNAME:CESTDTSTART:19700329T020000
RRULE:FREQ=YEARLY;INTERVAL=1;BYDAY=-1SU;BYMONTH=3
END:DAYLIGHT
BEGIN:STANDARD
TZOFFSETFROM:+0200
TZOFFSETTO:+0100
TZNAME:CET
DTSTART:19701025T030000
RRULE:FREQ=YEARLY;INTERVAL=1;BYDAY=-1SU;BYMONTH=10
END:STANDARD
END:VTIMEZONE
BEGIN:VEVENT
UID:9e3089edbe6e3e761a33ea5e39373410@seco-warwick.com
DTSTAMP:20260424T131907
DTSTART;TZID=Europe/Berlin:20130904
DTEND;TZID=Europe/Berlin:20130907
SUMMARY;CHARSET=UTF-8:Visit SECO/WARWICK at World Maintenance Forum 2013
DESCRIPTION:The International Event will focus on Reliability Engineering and Industrial Maintenance, for:
- Pharma, Biotech and Food Industry, Chemical, Petrochemical, Metal Working, Transportation, Aviation 
- Infrastructure, Logistics, Building, Hospital Engineering and Maintenance.
LOCATION:Lugano Convention Centre   Lugano 17 
URL:http://world-maintenance.com/world-maintenance-for
END:VEVENT
END:VCALENDAR