BEGIN:VCALENDAR
VERSION:2.0
PRODID:-//SECO/WARWICK//NONSGML v1.0//EN
CALSCALE:GREGORIAN
METHOD:PUBLISH
BEGIN:VTIMEZONE
TZID:Europe/Berlin
X-LIC-LOCATION:Europe/Berlin
BEGIN:DAYLIGHT
TZOFFSETFROM:+0100
TZOFFSETTO:+0200
TZNAME:CESTDTSTART:19700329T020000
RRULE:FREQ=YEARLY;INTERVAL=1;BYDAY=-1SU;BYMONTH=3
END:DAYLIGHT
BEGIN:STANDARD
TZOFFSETFROM:+0200
TZOFFSETTO:+0100
TZNAME:CET
DTSTART:19701025T030000
RRULE:FREQ=YEARLY;INTERVAL=1;BYDAY=-1SU;BYMONTH=10
END:STANDARD
END:VTIMEZONE
BEGIN:VEVENT
UID:10e0f793a11084fdc90ea5e0888bf0c0@seco-warwick.com
DTSTAMP:20260420T141234
DTSTART;TZID=Europe/Berlin:20190417
DTEND;TZID=Europe/Berlin:20190421
SUMMARY;CHARSET=UTF-8:Visit SECO/WARWICK at XVIII International Conference Ti -2019 in the CIS
DESCRIPTION:XVIII Международная конференция «Ti -2019 в СНГ» пройдет в апреле в отеле Sea Galaxy в Сочи, Россия. Во время мероприятия представители промышленности обменяются знаниями и опытом, а также обсудят самые последние достижения в титановой отрасли и 3D-технологиях. SECO/WARWICK имеет огромный опыт в этих сферах.\n\nПриглашаем на презентацию Лукаша Хвялковского (Łukasz Chwiałkowski) и Андрея Соседова – экспертов SECO/WARWICK – которые расскажут «О термообработке титана в вакуумных печах» 18 апреля 2019 года. Наши специалисты обсудят процессы термообработки титана с использованием вакуумных печей, на примере конкретных деталей и материалов расскажут о наилучших решениях для обработки, а также проанализируют несколько примеров из практики с применением наших решений для термообработки титана.
LOCATION:Sea Galaxy Hotel   Sochi 13 
URL:https://www.eng.titan-association.com/ti-2019
END:VEVENT
END:VCALENDAR